BEGIN:VCALENDAR
VERSION:2.0
PRODID:-//ChamberMaster//Event Calendar 2.0//EN
METHOD:PUBLISH
X-PUBLISHED-TTL:P3D
REFRESH-INTERVAL:P3D
CALSCALE:GREGORIAN
BEGIN:VEVENT
DTSTART:20120216T170000Z
DTEND:20120216T180000Z
X-MICROSOFT-CDO-ALLDAYEVENT:FALSE
SUMMARY:Member Orientation
DESCRIPTION:Join us for the St. Matthewws Chamber Member Orientation!\n\n\n\nExecutive Director Sherry Mulkins will let you know everything you ever wanted to know about the Chamber and then some. The orientation is held every six weeks at alternate times\, either 9 a.m. or noon. RSVP is required as seating is limited.\n\n\n\nJoin us today to get involved and watch your business start to evolve!
X-ALT-DESC;FMTTYPE=text/html:Join us for the St. Matthewws Chamber Member Orientation!<br />\n<br />\nExecutive Director Sherry Mulkins will let you know everything you ever wanted to know about the Chamber and then some. The orientation is held every six weeks at alternate times\, either 9 a.m. or noon. RSVP is <span style="font-size:14px\;"><strong><span style="color: rgb(255\, 0\, 0)\;">required</span></strong></span> as seating is limited.<br />\n<br />\nJoin us today to get involved and watch your business start to evolve!
LOCATION:
UID:e.9037.98
SEQUENCE:3
DTSTAMP:20260424T180632Z
URL:https://business.stmatthewschamber.com/events/details/member-orientation-02-16-2012-98
END:VEVENT

END:VCALENDAR
