BEGIN:VCALENDAR
VERSION:2.0
PRODID:-//ChamberMaster//Event Calendar 2.0//EN
METHOD:PUBLISH
X-PUBLISHED-TTL:P3D
REFRESH-INTERVAL:P3D
CALSCALE:GREGORIAN
BEGIN:VEVENT
DTSTART:20130607T230000Z
DTEND:20130608T000000Z
X-MICROSOFT-CDO-ALLDAYEVENT:FALSE
SUMMARY:Meet & Greet w/ Dr. Peter J. Buecker authour of No Magic Pill
DESCRIPTION:Meet Peter J. Buecker\, MD\, author of "No Magic Pill" and also owner of Wellness 360! This free event will feature a reading by the author\, followed by a question and answer session. Bring your friends\, family\, and anyone interested in becoming happier and healthier.\n\nSigned copies of the book will be available for sale.\n\n"Learn to gain greater awareness of your self... No Magic Pill is a guidebook for this journey... Open your heart and mind\, and experience what it's like to be the happiest\, healthiest possible version of you."\n\nFree
X-ALT-DESC;FMTTYPE=text/html:<span style="font-size:12px">Meet Peter J. Buecker\, MD\, author of &quot\;No Magic Pill&quot\; and also owner of Wellness 360! This free event will feature a reading by the author\, followed by a question and answer session. Bring your friends\, family\, and anyone interested in becoming happier and healthier.<br />\nSigned copies of the book will be available for sale.<br />\n&quot\;Learn to gain greater awareness of your self... No Magic Pill is a guidebook for this journey... Open your heart and mind\, and experience what it&#39\;s like to be the happiest\, healthiest possible version of you.&quot\;<br />\nFree</span><br />\n&nbsp\;
LOCATION:Wellness 360 241 Sears Ave Louisville\, KY
UID:e.9037.1583
SEQUENCE:3
DTSTAMP:20260425T155529Z
URL:https://business.stmatthewschamber.com/events/details/meet-greet-w-dr-peter-j-buecker-authour-of-no-magic-pill-06-07-2013-1583
END:VEVENT

END:VCALENDAR
