BEGIN:VCALENDAR
VERSION:2.0
PRODID:-//ChamberMaster//Event Calendar 2.0//EN
METHOD:PUBLISH
X-PUBLISHED-TTL:P3D
REFRESH-INTERVAL:P3D
CALSCALE:GREGORIAN
BEGIN:VEVENT
DTSTART:20130614T230000Z
DTEND:20130615T000000Z
X-MICROSOFT-CDO-ALLDAYEVENT:FALSE
SUMMARY:Meditation w/ Dr. Pete
DESCRIPTION:Relax and wind down at the end of your busy week with our Friday night meditation\, weekly at 7pm. Come as you are\, no experience is necessary. This practice is perfectly secular and compatible with any faith tradition. Bring your own cushion if you'd like\, otherwise there is plenty of seating. Experience the many health benefits of mediation for yourself. $5 donation recommended.
X-ALT-DESC;FMTTYPE=text/html:Relax and wind down at the end of your busy week with our Friday night meditation\, weekly at 7pm. Come as you are\, no experience is necessary. This practice is perfectly secular and compatible with any faith tradition. Bring your own cushion if you&#39\;d like\, otherwise there is plenty of seating. Experience the many health benefits of mediation for yourself. $5 donation recommended.
LOCATION:Wellness 360 241 Sears Ave Louisville\, KY
UID:e.9037.1575
SEQUENCE:3
DTSTAMP:20260425T144910Z
URL:https://business.stmatthewschamber.com/events/details/meditation-w-dr-pete-06-14-2013-1575
END:VEVENT

END:VCALENDAR
