BEGIN:VCALENDAR
VERSION:2.0
PRODID:-//ChamberMaster//Event Calendar 2.0//EN
METHOD:PUBLISH
X-PUBLISHED-TTL:P3D
REFRESH-INTERVAL:P3D
CALSCALE:GREGORIAN
BEGIN:VEVENT
DTSTART:20120516T153000Z
DTEND:20120516T170000Z
X-MICROSOFT-CDO-ALLDAYEVENT:FALSE
SUMMARY:May Business Lunch
DESCRIPTION:Speaker: Councilwoman Tina Ward-Pugh\, Councilman Brent Ackerson\, Councilman Ken Flemming
X-ALT-DESC;FMTTYPE=text/html:Speaker: Councilwoman Tina Ward-Pugh\, Councilman Brent Ackerson\, Councilman Ken Flemming
LOCATION:St Matthews Community Center 310 Ten Pin Lane
UID:e.9037.964
SEQUENCE:3
DTSTAMP:20260424T102415Z
URL:https://business.stmatthewschamber.com/events/details/may-business-lunch-05-16-2012-964
END:VEVENT

END:VCALENDAR
