BEGIN:VCALENDAR
VERSION:2.0
PRODID:-//ChamberMaster//Event Calendar 2.0//EN
METHOD:PUBLISH
X-PUBLISHED-TTL:P3D
REFRESH-INTERVAL:P3D
CALSCALE:GREGORIAN
BEGIN:VEVENT
DTSTART:20130515T113000Z
DTEND:20130515T130000Z
X-MICROSOFT-CDO-ALLDAYEVENT:FALSE
SUMMARY:May Business Breakfast
DESCRIPTION:The St. Matthews Chamber welcomes David Karem\, president of the Louisville Waterfront Development Corporation!\n\n\n\nDavid Karem is president of the Louisville Waterfront Development Corporation.  He received an undergraduate degree is from the University of Cincinnati College of Design\, Architecture\, Art & Planning\, and he obtained his Juris Doctorate from the University of Louisville Louis D. Brandeis School of Law.  He serves on the board of Spalding University\, Sisters of Charity of Nazareth Development Advisory Council\, and the Main Street Association. \n\n\n\nDavid served in the Kentucky General Assembly for 33 years\, and served on the Education Committees of the General Assembly for 32 of those years.  He served for more than 20 years on the Southern Regional Education Board\, served as chair of the SREB Legislative Advisory Council and as Treasurer of the SREB Board.  \n\n\n\nDavid currently serves as Chair of Kentucky Board of Education.  He has served as a juror for the landscape architecture schools at Harvard University\, Louisiana State University\, and the University of Kentucky\, and as a member of the Grawemeyer Award in Education Final Selection Committee in 2002\, 2004 and 2008.  He is the recipient of the Governor's Arts Award\, the Kentucky Society of the American Institute of Architects Laureate Award\, and the Jefferson County Public Schools/Gheens Academy Pioneer Innovator in Education Award 1983-2008.  \n\n\n\nDavid and his wife\, Anne\, have two sons\, Dr. Jeff Karem and doctoral candidate Andrew Karem.
X-ALT-DESC;FMTTYPE=text/html:<strong><span style="font-family:times new roman\,serif\;"><span style="font-size:10.0pt\;">The St. Matthews Chamber welcomes </span></span></strong><strong><span style="font-family:times new roman\,serif\;">David Karem</span></strong><strong><span style="font-family:times new roman\,serif\;"><span style="font-size:10.0pt\;">\, </span></span></strong><strong><span style="font-family:times new roman\,serif\;">president of the Louisville Waterfront Development Corporation!</span></strong><br />\n<br />\n<span style="font-family:times new roman\,serif\;">David Karem is president of the Louisville Waterfront Development Corporation.&nbsp\; He received an undergraduate degree is from the University of Cincinnati College of Design\, Architecture\, Art &amp\; Planning\, and he obtained his Juris Doctorate from the University of Louisville Louis D. Brandeis School of Law.&nbsp\; He serves on the board of Spalding University\, Sisters of Charity of Nazareth Development Advisory Council\, and the Main Street Association.&nbsp\;</span><br />\n<br />\n<span style="font-family:times new roman\,serif\;">David served in the Kentucky General Assembly for 33 years\, and served on the Education Committees of the General Assembly for 32 of those years.&nbsp\; He served for more than 20 years on the Southern Regional Education Board\, served as chair of the SREB Legislative Advisory Council and as Treasurer of the SREB Board.&nbsp\; </span><br />\n<br />\n<span style="font-family:times new roman\,serif\;">David currently serves as Chair of Kentucky Board of Education.&nbsp\; He has served as a juror for the landscape architecture schools at Harvard University\, Louisiana State University\, and the University of Kentucky\, and as a member of the Grawemeyer Award in Education Final Selection Committee in 2002\, 2004 and 2008.&nbsp\; He is the recipient of the Governor&rsquo\;s Arts Award\, the Kentucky Society of the American Institute of Architects Laureate Award\, and the Jefferson County Public Schools/Gheens Academy Pioneer Innovator in Education Award 1983-2008.&nbsp\; </span><br />\n<br />\nDavid and his wife\, Anne\, have two sons\, Dr. Jeff Karem and doctoral candidate Andrew Karem.<br />\n
LOCATION:The Olmsted 3701 Frankfort Ave Louisville\, KY 40206 (502) 899-7670
UID:e.9037.1347
SEQUENCE:3
DTSTAMP:20260421T173425Z
URL:https://business.stmatthewschamber.com/events/details/may-business-breakfast-05-15-2013-1347
END:VEVENT

END:VCALENDAR
