BEGIN:VCALENDAR
VERSION:2.0
PRODID:-//ChamberMaster//Event Calendar 2.0//EN
METHOD:PUBLISH
X-PUBLISHED-TTL:P3D
REFRESH-INTERVAL:P3D
CALSCALE:GREGORIAN
BEGIN:VEVENT
DTSTART:20260408T153000Z
DTEND:20260408T170000Z
X-MICROSOFT-CDO-ALLDAYEVENT:FALSE
SUMMARY:Mattingly & Ott - Lunch & Learn - Let's Learn Quickbooks!
DESCRIPTION:QuickBooks Basics for Small Businesses\n\nJoin us for an introductory session designed specifically for small business owners and entrepreneurs who want to feel more confident managing their books. This workshop will walk through the fundamentals of QuickBooks\, helping you better understand your financial data and day-to-day bookkeeping tasks.\n\nWhat We'll Cover\n\n\n	\n	Linking bank and credit card accounts\n	\n	\n	Categorizing income and expenses\n	\n	\n	Understanding common financial statements\n	\n	\n	Best practices for staying organized\n	\n	\n	Tips for simplifying your accounting process\n	\n\n\nWhether you are brand new to QuickBooks or just need a refresher\, this session will provide practical guidance you can start using right away.
X-ALT-DESC;FMTTYPE=text/html:<p data-end="163" data-start="121"><span style="font-size:16px\;"><strong data-end="163" data-start="121">QuickBooks Basics for Small Businesses</strong></span></p>\n\n<p data-end="472" data-start="165">Join us for an introductory session designed specifically for small business owners and entrepreneurs who want to feel more confident managing their books. This workshop will walk through the fundamentals of <strong data-end="387" data-start="373">QuickBooks</strong>\, helping you better understand your financial data and day-to-day bookkeeping tasks.</p>\n\n<p data-end="494" data-start="474"><strong data-end="494" data-start="474">What We&rsquo\;ll Cover</strong></p>\n\n<ul data-end="709" data-start="495">\n	<li data-end="536" data-start="495">\n	<p data-end="536" data-start="497">Linking bank and credit card accounts</p>\n	</li>\n	<li data-end="573" data-start="537">\n	<p data-end="573" data-start="539">Categorizing income and expenses</p>\n	</li>\n	<li data-end="619" data-start="574">\n	<p data-end="619" data-start="576">Understanding common financial statements</p>\n	</li>\n	<li data-end="660" data-start="620">\n	<p data-end="660" data-start="622">Best practices for staying organized</p>\n	</li>\n	<li data-end="709" data-start="661">\n	<p data-end="709" data-start="663">Tips for simplifying your accounting process</p>\n	</li>\n</ul>\n\n<p data-end="853" data-start="711">Whether you are brand new to QuickBooks or just need a refresher\, this session will provide practical guidance you can start using right away.</p>\n
LOCATION:Mattingly & Ott Financial Accounting 750 E. Jefferson St.\, Second Floor Louisville\, KY 40202
UID:e.9037.12570
SEQUENCE:3
DTSTAMP:20260420T052945Z
URL:https://business.stmatthewschamber.com/events/details/mattingly-ott-lunch-learn-let-s-learn-quickbooks-12570
END:VEVENT

END:VCALENDAR
