BEGIN:VCALENDAR
VERSION:2.0
PRODID:-//ChamberMaster//Event Calendar 2.0//EN
METHOD:PUBLISH
X-PUBLISHED-TTL:P3D
REFRESH-INTERVAL:P3D
CALSCALE:GREGORIAN
BEGIN:VEVENT
DTSTART:20140413T180000Z
DTEND:20140413T200000Z
X-MICROSOFT-CDO-ALLDAYEVENT:FALSE
SUMMARY:March for Meals
DESCRIPTION:Senior Care Experts is collecting food and donations for seniors in Metro Louisville. Bring food to this 40th Anniversary\, Senior Care Experts Food Drive Walk.
X-ALT-DESC;FMTTYPE=text/html:Senior Care Experts is collecting food and donations for seniors in Metro Louisville. Bring food to this 40th Anniversary\, Senior Care Experts Food Drive Walk.
LOCATION:750 Cypress Station Drive
UID:e.9037.1715
SEQUENCE:3
DTSTAMP:20260426T032311Z
URL:https://business.stmatthewschamber.com/events/details/march-for-meals-04-13-2014-1715
END:VEVENT

END:VCALENDAR
