BEGIN:VCALENDAR
VERSION:2.0
PRODID:-//ChamberMaster//Event Calendar 2.0//EN
METHOD:PUBLISH
X-PUBLISHED-TTL:P3D
REFRESH-INTERVAL:P3D
CALSCALE:GREGORIAN
BEGIN:VEVENT
DTSTART:20120322T033000Z
DTEND:20120321T170000Z
X-MICROSOFT-CDO-ALLDAYEVENT:FALSE
SUMMARY:March Business Lunch
DESCRIPTION:What can the Chamber do to build business for you?  \n\n	 \n\n	\n		Major website presence\n	\n		SYNERGY networking groups\n	\n		Think Tank Educational Series\n	\n		Marketing Opportunities\n	\n		Experts Corner\n	\n		Discount programs\n	\n		Committee Involvement\n	\n		Much\, much more!\n\n \n\n Attend the March Business meeting and get the most from YOUR CHAMBER today!  Held at the St. Matthews Community Center located at 310 Ten Pin Lane. Catered by Salsarita's Fresh Cantina.  Cost: $10 per member and $20 per guest.
X-ALT-DESC;FMTTYPE=text/html:<p>\n	<strong><em><span style="color:#323232\;"><span style="font-family:calibri\,sans-serif\;"><span style="font-size:9.0pt\;">What can the Chamber do to build business for you?</span></span></span></em></strong><span style="color:#323232\;"><span style="font-family:calibri\,sans-serif\;"><span style="font-size:9.0pt\;">&nbsp\;&nbsp\;<br />\n	&nbsp\;</span></span></span></p>\n<ul>\n	<li style="color:#323232\;">\n		<span style="font-family:calibri\,sans-serif\;"><span style="font-size:9.0pt\;">Major website presence</span></span></li>\n	<li style="color:#323232\;">\n		<span style="font-family:calibri\,sans-serif\;"><span style="font-size:9.0pt\;">SYNERGY networking groups</span></span></li>\n	<li style="color:#323232\;">\n		<span style="font-family:calibri\,sans-serif\;"><span style="font-size:9.0pt\;">Think Tank Educational Series</span></span></li>\n	<li style="color:#323232\;">\n		<span style="font-family:calibri\,sans-serif\;"><span style="font-size:9.0pt\;">Marketing Opportunities</span></span></li>\n	<li style="color:#323232\;">\n		<span style="font-family:calibri\,sans-serif\;"><span style="font-size:9.0pt\;">Experts Corner</span></span></li>\n	<li style="color:#323232\;">\n		<span style="font-family:calibri\,sans-serif\;"><span style="font-size:9.0pt\;">Discount programs</span></span></li>\n	<li style="color:#323232\;">\n		<span style="font-family:calibri\,sans-serif\;"><span style="font-size:9.0pt\;">Committee Involvement</span></span></li>\n	<li style="color:#323232\;">\n		<span style="font-family:calibri\,sans-serif\;"><span style="font-size:9.0pt\;">Much\, much more!</span></span></li>\n</ul>\n&nbsp\;<br />\n<span style="color:#323232\;"><span style="font-family:calibri\,sans-serif\;"><span style="font-size:9.0pt\;">&nbsp\;<span color="#323232">Attend the March Business meeting and get the most from YOUR CHAMBER today!&nbsp\; Held at the St. Matthews Community Center located at 310 Ten Pin Lane. Catered by Salsarita&#39\;s&nbsp\;Fresh Cantina.&nbsp\; Cost: $10 per member and $20 per guest.&nbsp\;</span></span></span></span>
LOCATION:St Matthews Community Center 310 Ten Pin Lane
UID:e.9037.962
SEQUENCE:3
DTSTAMP:20260424T141501Z
URL:https://business.stmatthewschamber.com/events/details/march-business-lunch-03-21-2012-962
END:VEVENT

END:VCALENDAR
