BEGIN:VCALENDAR
VERSION:2.0
PRODID:-//ChamberMaster//Event Calendar 2.0//EN
METHOD:PUBLISH
X-PUBLISHED-TTL:P3D
REFRESH-INTERVAL:P3D
CALSCALE:GREGORIAN
BEGIN:VEVENT
DTSTART:20120402T230000Z
DTEND:20120402T230000Z
X-MICROSOFT-CDO-ALLDAYEVENT:FALSE
SUMMARY:MARATHON CYCLING SESSION AT BAPTIST EAST/MILESTONE WELLNESS CENTER
DESCRIPTION:Dean Brooks\, tri-athlete and cycling instructor\, will be cycling for 12 hours\, from\n\n7 a.m-7 p.m.\, Monday\, April 2\, to raise money for the Kentucky Multiple Sclerosis Society. He will be riding a stationary bike at the Baptist East/Milestone Wellness Center\, 750 Cypress Station Drive.
X-ALT-DESC;FMTTYPE=text/html:Dean Brooks\, tri-athlete and cycling instructor\, will be cycling for 12 hours\, from<br />\n7 a.m-7 p.m.\, Monday\, April 2\, to raise money for the Kentucky Multiple Sclerosis Society. He will be riding a stationary bike at the Baptist East/Milestone Wellness Center\, 750 Cypress Station Drive.<br />\n
LOCATION:Baptist East/Milestone Wellness Center\, 750 Cypress Station Drive.
UID:e.9037.1030
SEQUENCE:3
DTSTAMP:20260424T153511Z
URL:https://business.stmatthewschamber.com/events/details/marathon-cycling-session-at-baptist-east-milestone-wellness-center-04-02-2012-1030
END:VEVENT

END:VCALENDAR
