BEGIN:VCALENDAR
VERSION:2.0
PRODID:-//ChamberMaster//Event Calendar 2.0//EN
METHOD:PUBLISH
X-PUBLISHED-TTL:P3D
REFRESH-INTERVAL:P3D
CALSCALE:GREGORIAN
BEGIN:VEVENT
DTSTART:20140128T123000Z
DTEND:20140128T163000Z
X-MICROSOFT-CDO-ALLDAYEVENT:FALSE
SUMMARY:Make it Happen!
DESCRIPTION:Entrepreneurial roundtables in media\, marketing\, technology and more!
X-ALT-DESC;FMTTYPE=text/html:<p>\n	Entrepreneurial roundtables in media\, marketing\, technology and more!</p>\n
LOCATION:Location: Louisville Urban League 1535 West Broadway Louisville\, KY 40203
UID:e.9037.1705
SEQUENCE:3
DTSTAMP:20260425T230016Z
URL:https://business.stmatthewschamber.com/events/details/make-it-happen-01-28-2014-1705
END:VEVENT

END:VCALENDAR
