BEGIN:VCALENDAR
VERSION:2.0
PRODID:-//ChamberMaster//Event Calendar 2.0//EN
METHOD:PUBLISH
X-PUBLISHED-TTL:P3D
REFRESH-INTERVAL:P3D
CALSCALE:GREGORIAN
BEGIN:VEVENT
DTSTART:20120607T220000Z
DTEND:20120608T000000Z
X-MICROSOFT-CDO-ALLDAYEVENT:FALSE
SUMMARY:Maintaining Better Bones: A Guide to OSteoepenia and Osteoporosis
DESCRIPTION:Maintaining Better Bones: A Guide to Osteopenia and Osteoporosis\n\nSometimes called "the silent disease"\, osteoporosis affects approximately 10 million Americans. Attendees of this program will learn the latest facts on both osteopenia and osteoporosis. Medical specialists will provide comprehensive information about risk factors\, the role of lifestyle and diet\, tips for prevention\, screening guidelines\, and more.\n\n\n\nThursday\, June 7 - 6 to 8 p.m. \n\n\n\nTo register\, call (502) 629-1234.
X-ALT-DESC;FMTTYPE=text/html:<strong>Maintaining Better Bones: A Guide to Osteopenia and Osteoporosis</strong><br />\nSometimes called &ldquo\;the silent disease&rdquo\;\, osteoporosis affects approximately 10 million Americans. Attendees of this program will learn the latest facts on both osteopenia and osteoporosis. Medical specialists will provide comprehensive information about risk factors\, the role of lifestyle and diet\, tips for prevention\, screening guidelines\, and more.<br />\n<br />\nThursday\, <strong>June 7 - 6 to 8 p.m. </strong><br />\n<br />\nTo register\, call (502)<strong> 629-1234.</strong>
LOCATION:Marshall Women's Health & Education Center Norton Suburban Hospital | Plaza III | Classroom IB
UID:e.9037.1051
SEQUENCE:3
DTSTAMP:20260424T134501Z
URL:https://business.stmatthewschamber.com/events/details/maintaining-better-bones-a-guide-to-osteoepenia-and-osteoporosis-06-07-2012-1051
END:VEVENT

END:VCALENDAR
