BEGIN:VCALENDAR
VERSION:2.0
PRODID:-//ChamberMaster//Event Calendar 2.0//EN
METHOD:PUBLISH
X-PUBLISHED-TTL:P3D
REFRESH-INTERVAL:P3D
CALSCALE:GREGORIAN
BEGIN:VEVENT
DTSTART:20200403T153000Z
DTEND:20200403T163000Z
X-MICROSOFT-CDO-ALLDAYEVENT:FALSE
SUMMARY:Lunch & Learn - Strategic Execution
DESCRIPTION:This virtual lunch & learn will center around getting your key strategic elements aligned with your goals to put them into ACTION.\n\n\n\n\n\n\n\nAbout this Event\n\n\n\nYou will learn:\n\n\n	How to define the priorities\n	Determine what goals need to be set\n	Things to watch out for along the way\n	How to manage activity to keep it moving toward DONE
X-ALT-DESC;FMTTYPE=text/html:<div>\n<div>\n<div>\n<div>\n<h1><strong>This virtual lunch &amp\; learn will center around getting your key strategic elements aligned with your goals to put them into ACTION.</strong></h1>\n</div>\n</div>\n</div>\n</div>\n\n<div>\n<div>\n<h2>About this Event</h2>\n\n<div>\n<div>\n<p>You will learn:</p>\n\n<ul>\n	<li>How to define the priorities</li>\n	<li>Determine what goals need to be set</li>\n	<li>Things to watch out for along the way</li>\n	<li>How to manage activity to keep it moving toward DONE</li>\n</ul>\n</div>\n</div>\n</div>\n</div>\n
LOCATION:VIRTUAL - Zoom Meeting
UID:e.9037.5673
SEQUENCE:3
DTSTAMP:20260424T132058Z
URL:https://business.stmatthewschamber.com/events/details/lunch-learn-strategic-execution-5673
END:VEVENT

END:VCALENDAR
