BEGIN:VCALENDAR
VERSION:2.0
PRODID:-//ChamberMaster//Event Calendar 2.0//EN
METHOD:PUBLISH
X-PUBLISHED-TTL:P3D
REFRESH-INTERVAL:P3D
CALSCALE:GREGORIAN
BEGIN:VEVENT
DTSTART:20200417T153000Z
DTEND:20200417T163000Z
X-MICROSOFT-CDO-ALLDAYEVENT:FALSE
SUMMARY:Lunch & Learn - Growing An Audience
DESCRIPTION:This lunchtime learning opportunity will cover how to grow your audience through non-paid efforts both online and off.\n\n\n\nRegister for the zoom meeting info
X-ALT-DESC;FMTTYPE=text/html:This lunchtime learning opportunity will cover how to grow your audience through non-paid efforts both online and off.<br />\n<br />\n<a href="https://mailchi.mp/c79cdb5c6522/grow-audience">Register for the zoom meeting info&nbsp\; &nbsp\;</a>
LOCATION:Zoom Meeting Room
UID:e.9037.5682
SEQUENCE:3
DTSTAMP:20260424T132620Z
URL:https://business.stmatthewschamber.com/events/details/lunch-learn-growing-an-audience-5682
END:VEVENT

END:VCALENDAR
