BEGIN:VCALENDAR
VERSION:2.0
PRODID:-//ChamberMaster//Event Calendar 2.0//EN
METHOD:PUBLISH
X-PUBLISHED-TTL:P3D
REFRESH-INTERVAL:P3D
CALSCALE:GREGORIAN
BEGIN:VEVENT
DTSTART:20200410T153000Z
DTEND:20200410T163000Z
X-MICROSOFT-CDO-ALLDAYEVENT:FALSE
SUMMARY:Lunch & Learn - Designing & Managing the Client Flow
DESCRIPTION:Some call them funnels\, other say flowcharts.  Either way\, you need to know how to design your message and manage your efforts along the way.
X-ALT-DESC;FMTTYPE=text/html:<span style="color:rgb(0\, 0\, 0)\; font-family:roboto\,sans-serif\; font-size:18px">Some call them funnels\, other say flowcharts.&nbsp\; Either way\, you need to know how to design your message and manage your efforts along the way.</span>
LOCATION:VIRTUAL - VIA ZOOM MEETING
UID:e.9037.5677
SEQUENCE:3
DTSTAMP:20260424T132425Z
URL:https://business.stmatthewschamber.com/events/details/lunch-learn-designing-managing-the-client-flow-5677
END:VEVENT

END:VCALENDAR
