BEGIN:VCALENDAR
VERSION:2.0
PRODID:-//ChamberMaster//Event Calendar 2.0//EN
METHOD:PUBLISH
X-PUBLISHED-TTL:P3D
REFRESH-INTERVAL:P3D
CALSCALE:GREGORIAN
BEGIN:VEVENT
DTSTART:20200421T153000Z
DTEND:20200421T163000Z
X-MICROSOFT-CDO-ALLDAYEVENT:FALSE
SUMMARY:Lunch & Learn - Better Team Communication
DESCRIPTION:This lunchtime learning opportunity will help you understand how teams function and ways to communicate better to get things done.\n\n\n\nRegister for zoom meeting information.
X-ALT-DESC;FMTTYPE=text/html:<span style="color:rgb(128\, 128\, 128)\; font-family:helvetica\; font-size:16px">This lunchtime learning opportunity will help you understand how teams function and ways to communicate better to get things done.</span><br />\n<br />\n<a href="https://mailchi.mp/a642578330c7/team-communication"><span style="color:rgb(128\, 128\, 128)\; font-family:helvetica\; font-size:16px">Register for zoom meeting information.</span></a>
LOCATION:Zoom Virtual Meeting
UID:e.9037.5685
SEQUENCE:3
DTSTAMP:20260424T132002Z
URL:https://business.stmatthewschamber.com/events/details/lunch-learn-better-team-communication-5685
END:VEVENT

END:VCALENDAR
