BEGIN:VCALENDAR
VERSION:2.0
PRODID:-//ChamberMaster//Event Calendar 2.0//EN
METHOD:PUBLISH
X-PUBLISHED-TTL:P3D
REFRESH-INTERVAL:P3D
CALSCALE:GREGORIAN
BEGIN:VEVENT
DTSTART:20140405T143000Z
DTEND:20140405T163000Z
X-MICROSOFT-CDO-ALLDAYEVENT:FALSE
SUMMARY:Louisville Waterfront Tour
DESCRIPTION:The staff of the Museum of the American Printing House for the Blind will lead a walking tour at Louisville Waterfront Park. The tour will emphasize the sensory aspects of the area. Stops on the tour will include the Lincoln Memorial\, Big Four Pedestrian and Bicycle Bridge\, and the Flock of Finns. The experience is designed for both people who are blind and people who are sighted. The event is free\, but there are limited spaces\, so reservations are required.  Call 502-899-2213 or send email to kcarpenter@aph.org before April 3 to make reservations.
X-ALT-DESC;FMTTYPE=text/html:The staff of the Museum of the American Printing House for the Blind will lead a walking tour at Louisville Waterfront Park. The tour will emphasize the sensory aspects of the area. Stops on the tour will include the Lincoln Memorial\, Big Four Pedestrian and Bicycle Bridge\, and the Flock of Finns. The experience is designed for both people who are blind and people who are sighted. The event is free\, but there are limited spaces\, so reservations are required. &nbsp\;Call 502-899-2213 or send email to kcarpenter@aph.org before April 3 to make reservations. &nbsp\;&nbsp\;
LOCATION:
UID:e.9037.1717
SEQUENCE:3
DTSTAMP:20260426T032412Z
URL:https://business.stmatthewschamber.com/events/details/louisville-waterfront-tour-04-05-2014-1717
END:VEVENT

END:VCALENDAR
