BEGIN:VCALENDAR
VERSION:2.0
PRODID:-//ChamberMaster//Event Calendar 2.0//EN
METHOD:PUBLISH
X-PUBLISHED-TTL:P3D
REFRESH-INTERVAL:P3D
CALSCALE:GREGORIAN
BEGIN:VEVENT
DTSTART:20140125T153000Z
DTEND:20140125T173000Z
X-MICROSOFT-CDO-ALLDAYEVENT:FALSE
SUMMARY:Louis Braille: This Is Your Life! Celebrate National Braille Literacy Awareness
DESCRIPTION:Louis Braille: This Is Your Life!\n\n	Celebrate National Braille Literacy Awareness Month\n\n	Saturday\, January 25\, 2014\, 10:30 a.m. - 12:30 p.m.\n\n	 \n\n	Meet the inventor of the code used worldwide by the blind to read and write\, in person! Visitors from Braille's past\, including his family\, childhood friends\, and teachers\, will tell us the stories behind this talented musician and inventor who was blind since the age of six. Celebrate his birthday with some distinctly French refreshments. Register by January 23. Open to all ages.\n\n	 \n\n	Call 502-899-2213 or email kcarpenter@aph.org to register. For all ages.
X-ALT-DESC;FMTTYPE=text/html:<div>\n	Louis Braille: This Is Your Life!</div>\n<div>\n	Celebrate National Braille Literacy Awareness Month</div>\n<div>\n	Saturday\, January 25\, 2014\, 10:30 a.m. - 12:30 p.m.</div>\n<div>\n	&nbsp\;</div>\n<div>\n	Meet the inventor of the code used worldwide by the blind to read and write\, in person! Visitors from Braille&#39\;s past\, including his family\, childhood friends\, and teachers\, will tell us the stories behind this talented musician and inventor who was blind since the age of six. Celebrate his birthday with some distinctly French refreshments. Register by January 23. Open to all ages.</div>\n<div>\n	&nbsp\;</div>\n<div>\n	Call 502-899-2213 or email kcarpenter@aph.org to register. For all ages.</div>\n<div>\n	&nbsp\;</div>\n
LOCATION:American Printing House for the Blind 1839 Frankfort Avenue Louisville\, KY In the historic Clifton Neighborhood\, Louisville.
UID:e.9037.1703
SEQUENCE:3
DTSTAMP:20260425T235743Z
URL:https://business.stmatthewschamber.com/events/details/louis-braille-this-is-your-life-celebrate-national-braille-literacy-awareness-01-25-2014-1703
END:VEVENT

END:VCALENDAR
