BEGIN:VCALENDAR
VERSION:2.0
PRODID:-//ChamberMaster//Event Calendar 2.0//EN
METHOD:PUBLISH
X-PUBLISHED-TTL:P3D
REFRESH-INTERVAL:P3D
CALSCALE:GREGORIAN
BEGIN:VEVENT
DTSTART:20120411T200000Z
DTEND:20120411T213000Z
X-MICROSOFT-CDO-ALLDAYEVENT:FALSE
SUMMARY:Living Beyond Support Group for Women with Advanced Breast Cancer
DESCRIPTION:Living Beyond\, a support group for women with advanced recurrent or metastatic breast cancer\, is offered by Baptist Hospital East and Gilda's Club. The group meets on the second and fourth Wednesdays of each month. April 2012 meetings will be Wednesday\, April 11 and Wednesday\, April 25 from 4-5:30 p.m. at\n\nGilda's Club\, 633 Baxter Ave. Group members are encouraged to interact among themselves and with the facilitators. Education and information comes in as it arises from the group sessions. Facilitators are JoAnne S. Morris\, Baptist East's Oncology and Palliative Care chaplain\, and Tara Schapmire\, an oncology social worker. The group is open to women who have been diagnosed within the last two years with recurrent or metastatic breast cancer. Advanced recurrent and metastatic are two categories of advanced breast cancer. Breast cancer is categorized as recurrent if it recurs in the same area\, while the spread of the breast cancer is known as metastatic. Symptoms of each can include a lump\, change in breast size or shape\, and more\, although many times women have no symptoms. For more information\, contact JoAnne Morris at (502) 896-7112.
X-ALT-DESC;FMTTYPE=text/html:Living Beyond\, a support group for women with advanced recurrent or metastatic breast cancer\, is offered by Baptist Hospital East and Gilda&rsquo\;s Club. The group meets on the second and fourth Wednesdays of each month. April 2012 meetings will be Wednesday\, April 11 and Wednesday\, April 25 from 4-5:30 p.m. at<br />\nGilda&rsquo\;s Club\, 633 Baxter Ave. Group members are encouraged to interact among themselves and with the facilitators. Education and information comes in as it arises from the group sessions. Facilitators are JoAnne S. Morris\, Baptist East&rsquo\;s Oncology and Palliative Care chaplain\, and Tara Schapmire\, an oncology social worker. The group is open to women who have been diagnosed within the last two years with recurrent or metastatic breast cancer. Advanced recurrent and metastatic are two categories of advanced breast cancer. Breast cancer is categorized as recurrent if it recurs in the same area\, while the spread of the breast cancer is known as metastatic. Symptoms of each can include a lump\, change in breast size or shape\, and more\, although many times women have no symptoms. For more information\, contact JoAnne Morris at (502) 896-7112.<br />\n
LOCATION:Gilda?s Club\, 633 Baxter Ave
UID:e.9037.1018
SEQUENCE:3
DTSTAMP:20260424T152622Z
URL:https://business.stmatthewschamber.com/events/details/living-beyond-support-group-for-women-with-advanced-breast-cancer-04-11-2012-1018
END:VEVENT

END:VCALENDAR
