BEGIN:VCALENDAR
VERSION:2.0
PRODID:-//ChamberMaster//Event Calendar 2.0//EN
METHOD:PUBLISH
X-PUBLISHED-TTL:P3D
REFRESH-INTERVAL:P3D
CALSCALE:GREGORIAN
BEGIN:VEVENT
DTSTART:20121201T210000Z
DTEND:20121201T230000Z
X-MICROSOFT-CDO-ALLDAYEVENT:FALSE
SUMMARY:Light Up St. Matthews
DESCRIPTION:The St. Matthews Area Chamber of Commerce's biggest project is the annual Light Up Brown Park. "Light Up" features N2It Entertainment\,  letters to Santa\, pictures with Santa and Mrs. Claus\, train rides\, horse-drawn carriage rides\, petting zoo\, Ronald McDonald\, cookies\, hot chocolate and apple cider and much\, much more. At 6:00 pm the switch is thrown and Brown Park "Light Up" with thousands and thousands of lights. And it's all FREE! Sponsorships are available to our members for this event.
X-ALT-DESC;FMTTYPE=text/html:<p>\n	The St. Matthews Area Chamber of Commerce&#39\;s biggest project is the annual Light Up Brown Park. &ldquo\;Light Up&rdquo\; features&nbsp\;N2It Entertainment\, &nbsp\;letters to Santa\, pictures with Santa and Mrs. Claus\, train rides\, horse-drawn carriage rides\, petting zoo\, Ronald McDonald\,&nbsp\;cookies\, hot chocolate and apple cider and much\, much more. At 6:00 pm the switch is thrown and Brown Park &ldquo\;Light Up&rdquo\; with thousands and thousands of lights. And&hellip\;it&rsquo\;s all FREE! Sponsorships are available to our members for this event.<span _fck_bookmark="1" style="display: none">&nbsp\;</span></p>\n
LOCATION:
UID:e.9037.102
SEQUENCE:3
DTSTAMP:20260422T013554Z
URL:https://business.stmatthewschamber.com/events/details/light-up-st-matthews-12-01-2012-102
END:VEVENT

END:VCALENDAR
