BEGIN:VCALENDAR
VERSION:2.0
PRODID:-//ChamberMaster//Event Calendar 2.0//EN
METHOD:PUBLISH
X-PUBLISHED-TTL:P3D
REFRESH-INTERVAL:P3D
CALSCALE:GREGORIAN
BEGIN:VEVENT
DTSTART:20130926T224500Z
DTEND:20130927T010000Z
X-MICROSOFT-CDO-ALLDAYEVENT:FALSE
SUMMARY:Life In Abundance Benefit Reception
DESCRIPTION:Join Life In Abundance International (LIA) at its annual benefit reception to hear about the organization's successes\, updates\, and future plans.\n\n	LIA founding president/CEO\, Dr. Florence Muindi\, will talk about the vision for the organization and reflect on the progress made thus far.\n\n	LIA Kenya country director\, Paul Mbanga\, will also join attendees to talk about the practical application of LIA's efforts to mobilize the church to restore life for Africa and the Caribbean's most vulnerable people. \n\n	Individual tickets are $60. Sponsorship opportunities are also available. Contact info@lifeinabundance.org with ticket or sponsorship questions.\n\n	Life In Abundance International is an African-founded\, faith-based community development organization that exists to mobilize the local church to restore health\, renew hope\, and inspire lasting transformation for the world's most vulnerable families. It currently works in 10 countries throughout Africa and the Caribbean. For more information\, visit lifeinabundance.org.
X-ALT-DESC;FMTTYPE=text/html:<p class="MsoNormal">\n	Join Life In Abundance International (LIA) at its annual benefit reception to hear about the organization&rsquo\;s successes\, updates\, and future plans.<o:p></o:p></p>\n<p class="MsoNormal">\n	LIA founding president/CEO\, Dr. Florence Muindi\, will talk about the vision for the organization and reflect on the progress made thus far.<o:p></o:p></p>\n<p class="MsoNormal">\n	LIA Kenya country director\, Paul Mbanga\, will also join attendees to talk about the practical application of LIA&rsquo\;s efforts to mobilize the church to restore life for Africa and the Caribbean&rsquo\;s most vulnerable people. <o:p></o:p></p>\n<p class="MsoNormal">\n	Individual tickets are $60. Sponsorship opportunities are also available. Contact <a href="mailto:info@lifeinabundance.org">info@lifeinabundance.org</a> with ticket or sponsorship questions.<o:p></o:p></p>\n<p class="MsoNormal">\n	Life In Abundance International is an African-founded\, faith-based community development organization that exists to mobilize the local church to restore health\, renew hope\, and inspire lasting transformation for the world&rsquo\;s most vulnerable families. It currently works in 10 countries throughout Africa and the Caribbean. For more information\, visit lifeinabundance.org.<o:p></o:p></p>\n
LOCATION:The Frazier History Museum
UID:e.9037.1570
SEQUENCE:3
DTSTAMP:20260425T181012Z
URL:https://business.stmatthewschamber.com/events/details/life-in-abundance-benefit-reception-09-26-2013-1570
END:VEVENT

END:VCALENDAR
