BEGIN:VCALENDAR
VERSION:2.0
PRODID:-//ChamberMaster//Event Calendar 2.0//EN
METHOD:PUBLISH
X-PUBLISHED-TTL:P3D
REFRESH-INTERVAL:P3D
CALSCALE:GREGORIAN
BEGIN:VEVENT
DTSTART:20140130T230000Z
DTEND:20140131T000000Z
X-MICROSOFT-CDO-ALLDAYEVENT:FALSE
SUMMARY:Las Marthas (Part of the Metamorphosis Film Series)
DESCRIPTION:Dating from the aftermath of the U.S.-Mexico War\, the annual colonial-inspired Martha Washington Society debutante ball in Laredo\, Texas is unlike any other. Las Marthas follows two Mexican American girls carrying this gilded tradition on their shoulders during a time of economic uncertainty and tension over immigration. Doors will open at 5:30pm. The film will start at 6:00pm. Please RSVP to Charles Gwinn to reserve your seat (cgwinn@alicenter.org). View the film's trailer here: http://www.itvs.org/films/las-marthas. - See more at: http://alicenter.org/calendar/event/593#sthash.uxDwhUs1.dpuf
X-ALT-DESC;FMTTYPE=text/html:Dating from the aftermath of the U.S.-Mexico War\, the annual colonial-inspired Martha Washington Society debutante ball in Laredo\, Texas is unlike any other. Las Marthas follows two Mexican American girls carrying this gilded tradition on their shoulders during a time of economic uncertainty and tension over immigration. Doors will open at 5:30pm. The film will start at 6:00pm. Please RSVP to Charles Gwinn to reserve your seat (cgwinn@alicenter.org). View the film&#39\;s trailer here: http://www.itvs.org/films/las-marthas. - See more at: http://alicenter.org/calendar/event/593#sthash.uxDwhUs1.dpuf
LOCATION:Muhammad Ali Center 144 N. Sixth Street Louisville\, KY 40202
UID:e.9037.1700
SEQUENCE:3
DTSTAMP:20260425T230327Z
URL:https://business.stmatthewschamber.com/events/details/las-marthas-part-of-the-metamorphosis-film-series-01-30-2014-1700
END:VEVENT

END:VCALENDAR
