BEGIN:VCALENDAR
VERSION:2.0
PRODID:-//ChamberMaster//Event Calendar 2.0//EN
METHOD:PUBLISH
X-PUBLISHED-TTL:P3D
REFRESH-INTERVAL:P3D
CALSCALE:GREGORIAN
BEGIN:VEVENT
DTSTART:20140419T170000Z
DTEND:20140419T190000Z
X-MICROSOFT-CDO-ALLDAYEVENT:FALSE
SUMMARY:KY Derby Festival Poster Signing
DESCRIPTION:On April 19th Jeaneen and Doreen Barnhart\, local artists who created the new Kentucky Derby Festival image\, will be at A Taste of Kentucky's Shelbyville Road Plaza store to sign the newest poster from 1-3 PM.
X-ALT-DESC;FMTTYPE=text/html:<strong><span style="font-family:verdana\,sans-serif\;"><span style="font-size:10.0pt\;">On April 19th Jeaneen and Doreen Barnhart\, local artists who created the new Kentucky Derby Festival image\, will be at A Taste of Kentucky&#39\;s Shelbyville Road Plaza store to sign the newest poster from 1-3 PM.</span></span></strong>
LOCATION:Shelbyville Road Plaza 4600 Shelbyville Road Louisville\, Kentucky 40207 Phone: 502-895-2777
UID:e.9037.1720
SEQUENCE:3
DTSTAMP:20260426T021914Z
URL:https://business.stmatthewschamber.com/events/details/ky-derby-festival-poster-signing-04-19-2014-1720
END:VEVENT

END:VCALENDAR
