BEGIN:VCALENDAR
VERSION:2.0
PRODID:-//ChamberMaster//Event Calendar 2.0//EN
METHOD:PUBLISH
X-PUBLISHED-TTL:P3D
REFRESH-INTERVAL:P3D
CALSCALE:GREGORIAN
BEGIN:VEVENT
DTSTART:20131012T150000Z
DTEND:20131013T020000Z
X-MICROSOFT-CDO-ALLDAYEVENT:FALSE
SUMMARY:Kosair Charities Fall Fest
DESCRIPTION:Come celebrate Kosair Charities...90 never looked so good!\n\n\n\nFall Fest at Kosair Charities Campus!\n\n\n\nFeaturing:\n\nLive Music from Every Decade!\n\nKosair Kid Reunion Tent\n\nFun Zone with rides & games for the whole family!\n\nFestival Food & Beer
X-ALT-DESC;FMTTYPE=text/html:Come celebrate Kosair Charities...90 never looked so good!<br />\n<br />\nFall Fest at Kosair Charities Campus!<br />\n<br />\nFeaturing:<br />\nLive Music from Every Decade!<br />\nKosair Kid Reunion Tent<br />\nFun Zone with rides &amp\; games for the whole family!<br />\nFestival Food &amp\; Beer<br />\n
LOCATION:
UID:e.9037.1594
SEQUENCE:3
DTSTAMP:20260425T192408Z
URL:https://business.stmatthewschamber.com/events/details/kosair-charities-fall-fest-10-12-2013-1594
END:VEVENT

END:VCALENDAR
