BEGIN:VCALENDAR
VERSION:2.0
PRODID:-//ChamberMaster//Event Calendar 2.0//EN
METHOD:PUBLISH
X-PUBLISHED-TTL:P3D
REFRESH-INTERVAL:P3D
CALSCALE:GREGORIAN
BEGIN:VEVENT
DTSTART:20130413T120000Z
DTEND:20130413T170000Z
X-MICROSOFT-CDO-ALLDAYEVENT:FALSE
SUMMARY:Kids 2 Kids Consignment Sale
DESCRIPTION:Large consignment sale sponsored by the Louisville Mothers of Twins Club.  This is our public sale date\, so all are welcome shop!
X-ALT-DESC;FMTTYPE=text/html:Large consignment sale sponsored by the Louisville Mothers of Twins Club. &nbsp\;This is our public sale date\, so all are welcome shop!
LOCATION:Immanuel United Church Of Christ 2300 Taylorsville Rd 40205
UID:e.9037.1565
SEQUENCE:3
DTSTAMP:20260425T121216Z
URL:https://business.stmatthewschamber.com/events/details/kids-2-kids-consignment-sale-04-13-2013-1565
END:VEVENT

END:VCALENDAR
