BEGIN:VCALENDAR
VERSION:2.0
PRODID:-//ChamberMaster//Event Calendar 2.0//EN
METHOD:PUBLISH
X-PUBLISHED-TTL:P3D
REFRESH-INTERVAL:P3D
CALSCALE:GREGORIAN
BEGIN:VEVENT
DTSTART:20120725T160000Z
DTEND:20120725T180000Z
X-MICROSOFT-CDO-ALLDAYEVENT:FALSE
SUMMARY:Kentuckiana Regional Planning and Development Agency Information Meeting
DESCRIPTION:The Kentucky Regional Planning and Development Agency (KIPDA) has launched the update of the metropolitan transportation plan "Connecting Kentuckiana". A 20 year planning document for surface transportation and as a part of this initiative joined with the St. Matthews Area Chamber of Commerce to present a meeting to the local Chamber and Business Association memberships. This event would serve as a way for your memberships to learn more about the KIPDA plan as well as provide input.\n\n \n\nKIPDA and the St. Matthews Chamber believe that all Chambers and chamber members have a strong understanding of the transportation needs in their communities and would love to have your input on this plan.\n\n \n\nThe event will be held July 25th from 12-2 p.m. at the Breckenridge Inn located at 2800 Breckinridge Lane (Louisville\, KY 40220) in the Breckenridge Ballroom.\n\n\n\nIf you would please\, express your interest no later than Monday July 23rd\, that would be greatly appreciated.
X-ALT-DESC;FMTTYPE=text/html:The Kentucky Regional Planning and Development Agency (KIPDA) has launched the update of the metropolitan transportation plan &ldquo\;Connecting Kentuckiana&rdquo\;. A 20 year planning document for surface transportation and as a part of this initiative joined with the St. Matthews Area Chamber of Commerce to present a meeting to the local Chamber and Business Association memberships. This event would serve as a way for your memberships to learn more about the KIPDA plan as well as provide input.<br />\n&nbsp\;<br />\nKIPDA and the St. Matthews Chamber believe that all Chambers and chamber members have a strong understanding of the transportation needs in their communities and would love to have your input on this plan.<br />\n&nbsp\;<br />\n<span style="font-family:calibri\,sans-serif\;"><span style="font-size:11.0pt\;">The event will be held July 25<sup>th</sup> from 12-2 p.m. at the Breckenridge Inn located at 2800 Breckinridge Lane (Louisville\, KY 40220) in the Breckenridge Ballroom.<br />\n<br />\nIf you would please\, express your interest no later than Monday July 23rd\, that would be greatly appreciated.</span></span>
LOCATION:The Breckenridge Inn located at 2800 Breckinridge Lane (Louisville\, KY 40220) in the Breckenridge Ballroom.
UID:e.9037.1080
SEQUENCE:3
DTSTAMP:20260422T094254Z
URL:https://business.stmatthewschamber.com/events/details/kentuckiana-regional-planning-and-development-agency-information-meeting-07-25-2012-1080
END:VEVENT

END:VCALENDAR
