BEGIN:VCALENDAR
VERSION:2.0
PRODID:-//ChamberMaster//Event Calendar 2.0//EN
METHOD:PUBLISH
X-PUBLISHED-TTL:P3D
REFRESH-INTERVAL:P3D
CALSCALE:GREGORIAN
BEGIN:VEVENT
DTSTART:20120223T210000Z
DTEND:20120224T000000Z
X-MICROSOFT-CDO-ALLDAYEVENT:FALSE
SUMMARY:KDM Internet Consulting LLC Ribbon Cutting
DESCRIPTION:KDM Internet Consulting LLC and St. Matthews Chamber Board Member Kenny Marcum invite you to celebrate the opening of his brand new office! Stop by and enjoy refreshments and networking.
X-ALT-DESC;FMTTYPE=text/html:KDM Internet Consulting LLC and St. Matthews Chamber Board Member Kenny Marcum invite you to celebrate the opening of his brand new office! Stop by and enjoy refreshments and networking.
LOCATION:6010 Browsboro Park Blvd. Suite D
UID:e.9037.950
SEQUENCE:3
DTSTAMP:20260424T181002Z
URL:https://business.stmatthewschamber.com/events/details/kdm-internet-consulting-llc-ribbon-cutting-02-23-2012-950
END:VEVENT

END:VCALENDAR
