BEGIN:VCALENDAR
VERSION:2.0
PRODID:-//ChamberMaster//Event Calendar 2.0//EN
METHOD:PUBLISH
X-PUBLISHED-TTL:P3D
REFRESH-INTERVAL:P3D
CALSCALE:GREGORIAN
BEGIN:VEVENT
DTSTART:20130619T153000Z
DTEND:20130619T170000Z
X-MICROSOFT-CDO-ALLDAYEVENT:FALSE
SUMMARY:June Business Luncheon
DESCRIPTION:Becky Beanblosssom is our speaker.\n\n\n\nBecky was born and raised in Louisville\, graduated from UofL\, and earned an MBA from Bellarmine. In 1997 she moved to California. While there she learned about Home Instead Senior Care\, a franchise that provides non-medical care to seniors. This proved to be the perfect business to both serve senior clients and provide good jobs for CAREGivers. In January 2010 Brent and Becky sold 100% of their business and became an ESOP. This decision has enabled the couple to reward and care for their employees in a way that is fitting those who care for others.\n\n\n\n\n\nWe will be serving:\n\n\n\nHouse Garden Salad: Romaine and iceburg lettuces\, with sliced red and yellow cherry tomatoes\, julienne carrots\, cucumbers\, sliced radish and ciabatta bread. Ranch and basalmic vinaigrette dressings.\n\n \n\nChicken Penne\n\nPenne pasta with grilled herb chicken breast in a sundried tomato sauce.            \n\nOR\n\nVegatarian Option: Vegetable Penne\n\nPenne pasta with fresh seasonal vegetables in a sundried tomato sauce.\n\n \n\nRaspberry/lemon swirled mousse\n\n \n\nFreshly Brewed Regular and Decaffeinated Coffee\n\nWater Glasses\, Coffee Cups
X-ALT-DESC;FMTTYPE=text/html:Becky Beanblosssom is our speaker.<br />\n<br />\n<span style="font-size:10.0pt\;">Becky was born and raised in Louisville\, graduated from UofL\, and earned an MBA from Bellarmine. In 1997 she moved to California. While there she learned about Home Instead Senior Care\, a franchise that provides non-medical care to seniors. This proved to be the perfect business to both serve senior clients and provide good jobs for CAREGivers. In January 2010 Brent and Becky sold 100% of their business and became an ESOP. This decision has enabled the couple to reward and care for their employees in a way that is fitting those who care for others.</span><br />\n<br />\n<br />\nWe will be serving:<br />\n<br />\n<span style="font-family:helvetica\,sans-serif\;"><span style="font-size:8.0pt\;">House Garden Salad: Romaine and iceburg lettuces\, with sliced red and yellow cherry tomatoes\, julienne carrots\, cucumbers\, sliced radish and ciabatta bread. Ranch and basalmic vinaigrette dressings.</span></span><br />\n&nbsp\;<br />\n<span style="font-family:helvetica\,sans-serif\;"><span style="font-size:8.0pt\;">Chicken Penne</span></span><br />\n<span style="font-family:helvetica\,sans-serif\;"><span style="font-size:8.0pt\;">Penne pasta with grilled herb chicken breast in a sundried tomato sauce.&nbsp\;&nbsp\;&nbsp\;&nbsp\;&nbsp\;&nbsp\;&nbsp\;&nbsp\;&nbsp\;&nbsp\;&nbsp\; </span></span><br />\n<strong><span style="font-family:helvetica\,sans-serif\;"><span style="font-size:8.0pt\;">OR</span></span></strong><br />\n<span style="font-family:helvetica\,sans-serif\;"><span style="font-size:8.0pt\;">Vegatarian Option: Vegetable Penne</span></span><br />\n<span style="font-family:helvetica\,sans-serif\;"><span style="font-size:8.0pt\;">Penne pasta with fresh seasonal vegetables in a sundried tomato sauce.</span></span><br />\n&nbsp\;<br />\n<span style="font-family:helvetica\,sans-serif\;"><span style="font-size:8.0pt\;">Raspberry/lemon swirled mousse</span></span><br />\n&nbsp\;<br />\n<span style="font-family:helvetica\,sans-serif\;"><span style="font-size:8.0pt\;">Freshly Brewed Regular and Decaffeinated Coffee</span></span><br />\n<span style="font-family:helvetica\,sans-serif\;"><span style="font-size:8.0pt\;">Water Glasses\, Coffee Cups</span></span><br />\n&nbsp\;
LOCATION:The Olmsted
UID:e.9037.1355
SEQUENCE:3
DTSTAMP:20260421T161447Z
URL:https://business.stmatthewschamber.com/events/details/june-business-luncheon-06-19-2013-1355
END:VEVENT

END:VCALENDAR
