BEGIN:VCALENDAR
VERSION:2.0
PRODID:-//ChamberMaster//Event Calendar 2.0//EN
METHOD:PUBLISH
X-PUBLISHED-TTL:P3D
REFRESH-INTERVAL:P3D
CALSCALE:GREGORIAN
BEGIN:VEVENT
DTSTART:20120620T153000Z
DTEND:20120620T170000Z
X-MICROSOFT-CDO-ALLDAYEVENT:FALSE
SUMMARY:June Business Lunch
DESCRIPTION:Speaker: Lauren Wheatley\, Junior Achievement
X-ALT-DESC;FMTTYPE=text/html:Speaker: Lauren Wheatley\, Junior Achievement
LOCATION:St Matthews Community Center 310 Ten Pin Lane
UID:e.9037.965
SEQUENCE:3
DTSTAMP:20260424T084640Z
URL:https://business.stmatthewschamber.com/events/details/june-business-lunch-06-20-2012-965
END:VEVENT

END:VCALENDAR
