BEGIN:VCALENDAR
VERSION:2.0
PRODID:-//ChamberMaster//Event Calendar 2.0//EN
METHOD:PUBLISH
X-PUBLISHED-TTL:P3D
REFRESH-INTERVAL:P3D
CALSCALE:GREGORIAN
BEGIN:VEVENT
DTSTART:20140208T160000Z
DTEND:20140208T200000Z
X-MICROSOFT-CDO-ALLDAYEVENT:FALSE
SUMMARY:JET'S PIZZA FREE SIGNATURE DEEP DISH SLICES
DESCRIPTION:ST. MATTHEWS\, Kentucky\, January 14\, 2014  What's even better than pizza? FREE pizza! To celebrate its grand opening\, Jet's Pizza will give away FREE slices of its signature deep dish square pizza (one per person) AND FREE pieces of its Deep Dish Jet's Bread (two per person) on Saturday\, February 8\, from 11 a.m. to 3 p.m. at the new store located at 101 S. Hubbard Lane in St. Matthews. (Offer valid at this location only).\n\n                                                                                \n\nThe first 200 customers will also receive a FREE and fashionable Jet's Pizza t-shirt.\n\n \n\n "We invite everyone to stop in on February 8. We're confident that once you try Jet's Pizza\, you'll be back for more\," said franchise owner Tom Horsley. "We're excited that the popularity of Jet's Pizza is growing fast in Louisville. Our St. Matthews store is the fourth Jet's Pizza to open in the metro area in just over a year."\n\n \n\nSince its founding in 1978\, Jet's--a Michigan-based chain--has grown to more than 300 stores in 16 states\, including 10 other Kentucky locations: Fern Creek\, Florence\, Fort Wright\, Hebron\, three in Lexington\, Louisville\, Middletown and Newport. A Bowling Green location and a fourth Lexington store will open soon.\n\n \n\nCarry out or delivery orders for the new St. Matthews store can be placed at (502) 895-4655. Order online at www.jetspizza.com.
X-ALT-DESC;FMTTYPE=text/html:<br />\n&nbsp\;<strong><span style="font-family:calibri\,sans-serif\;">ST. MATTHEWS\, Kentucky\, January 14\, 2014&mdash\;</span></strong><span style="font-family:calibri\,sans-serif\;"> What&rsquo\;s even better than pizza? FREE pizza! To celebrate its grand opening\, Jet&rsquo\;s Pizza will give away FREE slices of its signature deep dish square pizza (one per person) AND FREE pieces of its Deep Dish Jet&rsquo\;s Bread (two per person) on Saturday\, February 8\, from 11 a.m. to 3 p.m. at the new store located at 101 S. Hubbard Lane in St. Matthews. (Offer valid at this location only).</span><br />\n&nbsp\;&nbsp\;&nbsp\;&nbsp\;&nbsp\;&nbsp\;&nbsp\;&nbsp\;&nbsp\;&nbsp\;&nbsp\;&nbsp\;&nbsp\;&nbsp\;&nbsp\;&nbsp\;&nbsp\;&nbsp\;&nbsp\;&nbsp\;&nbsp\;&nbsp\;&nbsp\;&nbsp\;&nbsp\;&nbsp\;&nbsp\;&nbsp\;&nbsp\;&nbsp\;&nbsp\;&nbsp\;&nbsp\;&nbsp\;&nbsp\;&nbsp\;&nbsp\;&nbsp\;&nbsp\;&nbsp\;&nbsp\;&nbsp\;&nbsp\;&nbsp\;&nbsp\;&nbsp\;&nbsp\;&nbsp\;&nbsp\;&nbsp\;&nbsp\;&nbsp\;&nbsp\;&nbsp\;&nbsp\;&nbsp\;&nbsp\;&nbsp\;&nbsp\;&nbsp\;&nbsp\;&nbsp\;&nbsp\;&nbsp\;&nbsp\;&nbsp\;&nbsp\;&nbsp\;&nbsp\;&nbsp\;&nbsp\;&nbsp\;&nbsp\;&nbsp\;&nbsp\;&nbsp\;&nbsp\;&nbsp\;&nbsp\;&nbsp\;<br />\n<span style="font-family:calibri\,sans-serif\;">The first 200 customers will also receive a FREE and fashionable Jet&rsquo\;s Pizza t-shirt.</span><br />\n&nbsp\;<br />\n<span style="font-family:calibri\,sans-serif\;">&nbsp\;&ldquo\;We invite everyone to stop in on February 8. We&rsquo\;re confident that once you try Jet&rsquo\;s Pizza\, you&rsquo\;ll be back for more\,&rdquo\; said franchise owner Tom Horsley. &ldquo\;We&rsquo\;re excited that the popularity of Jet&rsquo\;s Pizza is growing fast in Louisville. Our St. Matthews store is the fourth Jet&rsquo\;s Pizza to open in the metro area in just over a year.&rdquo\;</span><br />\n&nbsp\;<br />\n<span style="font-family:calibri\,sans-serif\;">Since its founding in 1978\, Jet&rsquo\;s--a Michigan-based chain--has grown to more than 300 stores in 16 states\, including 10 other Kentucky locations: Fern Creek\, Florence\, Fort Wright\, Hebron\, three in Lexington\, Louisville\, Middletown and Newport. A Bowling Green location and a fourth Lexington store will open soon.</span><br />\n&nbsp\;<br />\n<span style="font-family:calibri\,sans-serif\;">Carry out or delivery orders for the new St. Matthews store can be placed at <span style="color:black\;">(502) 895-4655. Order online at <a href="http://www.jetspizza.com">www.jetspizza.com</a>.</span></span><br />\n&nbsp\;
LOCATION:101 S. Hubbard Lane in St. Matthews. (Offer valid at this location only).
UID:e.9037.1706
SEQUENCE:3
DTSTAMP:20260425T235646Z
URL:https://business.stmatthewschamber.com/events/details/jet-s-pizza-free-signature-deep-dish-slices-02-08-2014-1706
END:VEVENT

END:VCALENDAR
