BEGIN:VCALENDAR
VERSION:2.0
PRODID:-//ChamberMaster//Event Calendar 2.0//EN
METHOD:PUBLISH
X-PUBLISHED-TTL:P3D
REFRESH-INTERVAL:P3D
CALSCALE:GREGORIAN
BEGIN:VEVENT
DTSTART:20130314T220000Z
DTEND:20130314T233000Z
X-MICROSOFT-CDO-ALLDAYEVENT:FALSE
SUMMARY:Introduction to Headache School: What is a Migraine?
DESCRIPTION:Throbbing migraine pain can make it difficult to function.\n\nWhat makes migraines so debilitating and hard to treat?\n\nLearn about the science behind migraines\, why people get\n\nthem and what can be done to treat them
X-ALT-DESC;FMTTYPE=text/html:Throbbing migraine pain can make it difficult to function.<br />\nWhat makes migraines so debilitating and hard to treat?<br />\nLearn about the science behind migraines\, why people get<br />\nthem and what can be done to treat them
LOCATION:Marshall Women's Health & Education Center\, Norton Medical Plaza III Suburban\, Suite 108
UID:e.9037.1559
SEQUENCE:3
DTSTAMP:20260425T144626Z
URL:https://business.stmatthewschamber.com/events/details/introduction-to-headache-school-what-is-a-migraine-03-14-2013-1559
END:VEVENT

END:VCALENDAR
