BEGIN:VCALENDAR
VERSION:2.0
PRODID:-//ChamberMaster//Event Calendar 2.0//EN
METHOD:PUBLISH
X-PUBLISHED-TTL:P3D
REFRESH-INTERVAL:P3D
CALSCALE:GREGORIAN
BEGIN:VEVENT
DTSTART:20210601T120000Z
DTEND:20210601T133000Z
X-MICROSOFT-CDO-ALLDAYEVENT:FALSE
SUMMARY:Inspire featuring Christy Smallwood
DESCRIPTION:The remainder of our Inspire 2021 series will now be offered both IN PERSON and VIRTUALLY! Register today   due to restrictions\, we have limited in person seats.  In person registration will close on 5/28/21.\n\n\n\nOn June 1st\, Christy Smallwood\, Chief Strategic Guide\, Eagle Eye Strategies will share her story!  Get ready to be INSPIRED and ENERGIZED as we re-gather and appreciate all that this past year has taught us.  Your Chamber staff is more than ready to see you again\, as we welcome Christy to tell her story!\n\n\n\nThank you to our sponsors!\n\nSupporting Sponsor - Misty Enright Photography\n\nSpeaker Sponsor - 502 Hemp\n\nBreakfast Sponsor - Limestone Bank\n\n\n\nIn a world full of challenges sometimes what we need most is to know that our peers face the same problems we do. This series is geared at letting you take a peek behind the curtain and see that each of us have both a professional and personal story that can inspire others.\n\n\n\nStrict state and venue guidelines will be followed.  Please read our updated In Person COVID 19 Policies at https://www.stmatthewschamber.com/return-to-in-person-events/
X-ALT-DESC;FMTTYPE=text/html:The remainder of our Inspire 2021 series will now be offered both IN PERSON and VIRTUALLY! Register today &ndash\; due to restrictions\, we have limited in person seats.&nbsp\; In person registration will close on 5/28/21.<br />\n<br />\nOn June 1st\, Christy Smallwood\, Chief Strategic Guide\, Eagle Eye Strategies will share her story!&nbsp\; Get ready to be INSPIRED and ENERGIZED as we re-gather and appreciate all that this past year has taught us.&nbsp\; Your Chamber staff is more than ready to see you again\, as we welcome Christy to tell her story!<br />\n<br />\nThank you to our sponsors!<br />\nSupporting Sponsor - Misty Enright Photography<br />\nSpeaker Sponsor - 502 Hemp<br />\nBreakfast Sponsor - Limestone Bank<br />\n<br />\nIn a world full of challenges sometimes what we need most is to know that our peers face the same problems we do. This series is geared at letting you take a peek behind the curtain and see that each of us have both a professional and personal story that can inspire others.<br />\n<br />\nStrict state and venue guidelines will be followed.&nbsp\; Please read our updated In Person COVID 19 Policies at&nbsp\;https://www.stmatthewschamber.com/return-to-in-person-events/
LOCATION:450 N. Whittington Pkwy. Founders Union Building Room 218A/B ShelbyHurst Campus Louisville\, KY 40220 This program will be offered both Live and Virtually via Zoom. Zoom Invitation will be sent to all virtual attendees the week prior to the program.
UID:e.9037.6109
SEQUENCE:3
DTSTAMP:20260421T150922Z
URL:https://business.stmatthewschamber.com/events/details/inspire-featuring-christy-smallwood-6109
END:VEVENT

END:VCALENDAR
