BEGIN:VCALENDAR
VERSION:2.0
PRODID:-//ChamberMaster//Event Calendar 2.0//EN
METHOD:PUBLISH
X-PUBLISHED-TTL:P3D
REFRESH-INTERVAL:P3D
CALSCALE:GREGORIAN
BEGIN:VEVENT
DTSTART:20200303T130000Z
DTEND:20200303T143000Z
X-MICROSOFT-CDO-ALLDAYEVENT:FALSE
SUMMARY:Inspire
DESCRIPTION:In a world full of challenges sometimes what we need most is to know that our peers face the same problems we do. This breakfast series is geared at letting you take a peek behind the curtain and see that each of us have both a professional and personal story that can inspire others.\n\n\n\nMarch 3rd's Speaker is Velma Watkins\, Executive Vice President of Burdorf Interiors & Overstock Furniture-Deals
X-ALT-DESC;FMTTYPE=text/html:<span style="font-family:arial\,sans-serif\;"><span style="font-size:10.5pt\;">In a world full of challenges sometimes what we need most is to know that our peers face the same problems we do. This breakfast series is geared at letting you take a peek behind the curtain and see that each of us have both a professional and personal story that can inspire others.<br>\n<br>\nMarch 3rd's Speaker is&nbsp\;<strong>Velma Watkins</strong>\, Executive Vice President of Burdorf Interiors &amp\; Overstock Furniture-Deals</span></span>
LOCATION:University of Louisville Shelby Campus Founders Union Building 450 N Whittington Parkway Louisville\, KY 40222
UID:e.9037.5619
SEQUENCE:3
DTSTAMP:20260425T162718Z
URL:https://business.stmatthewschamber.com/events/details/inspire-5619
END:VEVENT

END:VCALENDAR
