BEGIN:VCALENDAR
VERSION:2.0
PRODID:-//ChamberMaster//Event Calendar 2.0//EN
METHOD:PUBLISH
X-PUBLISHED-TTL:P3D
REFRESH-INTERVAL:P3D
CALSCALE:GREGORIAN
BEGIN:VEVENT
DTSTART:20130325T223000Z
DTEND:20130325T233000Z
X-MICROSOFT-CDO-ALLDAYEVENT:FALSE
SUMMARY:iHealth
DESCRIPTION:A registered dietitian reviews and demonstrates popular\n\nsmartphone applications that can assist with making healthy\n\nlifestyle changes.
X-ALT-DESC;FMTTYPE=text/html:A registered dietitian reviews and demonstrates popular<br />\nsmartphone applications that can assist with making healthy<br />\nlifestyle changes.
LOCATION:Marshall Women's Health & Education Center\, Norton Medical Plaza III Suburban\, Suite 108.
UID:e.9037.1431
SEQUENCE:3
DTSTAMP:20260425T144451Z
URL:https://business.stmatthewschamber.com/events/details/ihealth-03-25-2013-1431
END:VEVENT

END:VCALENDAR
