BEGIN:VCALENDAR
VERSION:2.0
PRODID:-//ChamberMaster//Event Calendar 2.0//EN
METHOD:PUBLISH
X-PUBLISHED-TTL:P3D
REFRESH-INTERVAL:P3D
CALSCALE:GREGORIAN
BEGIN:VEVENT
DTSTART:20131029T113000Z
DTEND:20131029T130000Z
X-MICROSOFT-CDO-ALLDAYEVENT:FALSE
SUMMARY:How To Think Like da Vinci
DESCRIPTION:Small Business Italian Style! Work on your business with Planet Einstein! Register with Jackee Schwartz:\n\njackee@planeteinstein.com or 502-963-9666
X-ALT-DESC;FMTTYPE=text/html:Small Business Italian Style! Work on your business with Planet Einstein! Register with Jackee Schwartz:<br />\n<a class="lnkNormalOvr" style="font-size:11px">jackee@planeteinstein.com</a> or 502-963-9666
LOCATION:3827 Shelbyville Road Louisville\, KY 40207
UID:e.9037.1619
SEQUENCE:3
DTSTAMP:20260425T192445Z
URL:https://business.stmatthewschamber.com/events/details/how-to-think-like-da-vinci-10-29-2013-1619
END:VEVENT

END:VCALENDAR
