BEGIN:VCALENDAR
VERSION:2.0
PRODID:-//ChamberMaster//Event Calendar 2.0//EN
METHOD:PUBLISH
X-PUBLISHED-TTL:P3D
REFRESH-INTERVAL:P3D
CALSCALE:GREGORIAN
BEGIN:VEVENT
DTSTART:20200129T130000Z
DTEND:20200129T150000Z
X-MICROSOFT-CDO-ALLDAYEVENT:FALSE
SUMMARY:How to Attract & Retain Top Talent
DESCRIPTION:In this breakfast workshop\, we'll be discussing the key steps that business owners and team managers need to take in order to attract and retain the best employees.\n\n\n\nThis is a free workshop\, but please register here.
X-ALT-DESC;FMTTYPE=text/html:In this breakfast workshop\, we&#39\;ll be discussing the key steps that business owners and team managers need to take in order to attract and retain the best employees.<br />\n<br />\nThis is a free workshop\, but please register <a href="https://www.eventbrite.com/e/how-to-attract-retain-top-talent-tickets-86730191337">here.</a>
LOCATION:Hurstbourne Place 9300 Shelbyville Rd. #506 Louisville\, KY 40222
UID:e.9037.5629
SEQUENCE:3
DTSTAMP:20260424T091908Z
URL:https://business.stmatthewschamber.com/events/details/how-to-attract-retain-top-talent-5629
END:VEVENT

END:VCALENDAR
