BEGIN:VCALENDAR
VERSION:2.0
PRODID:-//ChamberMaster//Event Calendar 2.0//EN
METHOD:PUBLISH
X-PUBLISHED-TTL:P3D
REFRESH-INTERVAL:P3D
CALSCALE:GREGORIAN
BEGIN:VEVENT
DTSTART;VALUE=DATE:20130316
DTEND;VALUE=DATE:20130317
TRANSP:TRANSPARENT
X-MICROSOFT-CDO-ALLDAYEVENT:TRUE
SUMMARY:HomeFit Personal Training Company Grand Opening
DESCRIPTION:HomeFit Personal Training Company is having their Grand Opening Celebration at the St. Matthews location on Saturday\, March 16 from 9am-3pm.  We are located at 3900 Shelbyville Rd #13 in St. Matthews Station (in between Molly Malone's and Louisville Geek).  We are giving away 6 months of FREE TRAINING to the first 200 people (non members) that walk in our door.  Please sign in at the front desk for a tour.\n\nHomeFit specializes in IN-HOME Personal Training\, but also offers group training\, boot camps and yoga classes.  \n\nPlease come and help us celebrate!!  We are excited to help you with your health and fitness goals!!
X-ALT-DESC;FMTTYPE=text/html:HomeFit Personal Training Company is having their Grand Opening Celebration at the St. Matthews location on Saturday\, March 16 from 9am-3pm. &nbsp\;We are located at 3900 Shelbyville Rd #13 in St. Matthews Station (in between Molly Malone&#39\;s and Louisville Geek). &nbsp\;We are giving away 6 months of FREE TRAINING to the first 200 people (non members) that walk in our door. &nbsp\;Please sign in at the front desk for a tour.<br />\nHomeFit specializes in IN-HOME Personal Training\, but also offers group training\, boot camps and yoga classes. &nbsp\;<br />\nPlease come and help us celebrate!! &nbsp\;We are excited to help you with your health and fitness goals!!
LOCATION:3900 Shelbyville Rd #13 in St. Matthews Station
UID:e.9037.1561
SEQUENCE:3
DTSTAMP:20260425T133032Z
URL:https://business.stmatthewschamber.com/events/details/homefit-personal-training-company-grand-opening-03-16-2013-1561
END:VEVENT

END:VCALENDAR
