BEGIN:VCALENDAR
VERSION:2.0
PRODID:-//ChamberMaster//Event Calendar 2.0//EN
METHOD:PUBLISH
X-PUBLISHED-TTL:P3D
REFRESH-INTERVAL:P3D
CALSCALE:GREGORIAN
BEGIN:VEVENT
DTSTART:20121208T153000Z
DTEND:20121208T173000Z
X-MICROSOFT-CDO-ALLDAYEVENT:FALSE
SUMMARY:Holiday Ornament Workshop
DESCRIPTION:People who are blind or visually impaired enjoy learning about art and making art just as sighted people do. This workshop showcases methods and materials used by blind artists to make ornaments and decorations celebrating the spirit of Christmas Hanukkah\, or Kwanza. Our guest instructor is Patrice Will\, teaching artist for VSA Arts of Kentucky. Admission is free\, but registration is required. Call 899-2213 or email kcarpenter@aph.org  before December 8 to register. Open to all ages.
X-ALT-DESC;FMTTYPE=text/html:<p>\n	People who are blind or visually impaired enjoy learning about art and making art just as sighted people do. This workshop showcases methods and materials used by blind artists to make ornaments and decorations celebrating the spirit of Christmas Hanukkah\, or Kwanza. Our guest instructor is Patrice Will\, teaching artist for VSA Arts of Kentucky. Admission is free\, but registration is required. Call 899-2213 or email <a href="mailto:kcarpenter@aph.org">kcarpenter@aph.org</a> &nbsp\;before December 8 to register. Open to all ages.</p>\n
LOCATION:Museum of the American Printing House for the Blind 1839 Frankfort Ave\, Louisville\, KY 40206
UID:e.9037.1316
SEQUENCE:3
DTSTAMP:20260425T170646Z
URL:https://business.stmatthewschamber.com/events/details/holiday-ornament-workshop-12-08-2012-1316
END:VEVENT

END:VCALENDAR
