BEGIN:VCALENDAR
VERSION:2.0
PRODID:-//ChamberMaster//Event Calendar 2.0//EN
METHOD:PUBLISH
X-PUBLISHED-TTL:P3D
REFRESH-INTERVAL:P3D
CALSCALE:GREGORIAN
BEGIN:VEVENT
DTSTART:20130321T220000Z
DTEND:20130322T000000Z
X-MICROSOFT-CDO-ALLDAYEVENT:FALSE
SUMMARY:Herbs for Heart Health
DESCRIPTION:Learn the health benefits of herbs\, how to plant your own\n\nherb garden and tips for cooking with herbs.
X-ALT-DESC;FMTTYPE=text/html:Learn the health benefits of herbs\, how to plant your own<br />\nherb garden and tips for cooking with herbs.
LOCATION:Marshall Women's Health & Education Center\, Norton Medical Plaza III Suburban\, Suite 108
UID:e.9037.1558
SEQUENCE:3
DTSTAMP:20260425T145135Z
URL:https://business.stmatthewschamber.com/events/details/herbs-for-heart-health-03-21-2013-1558
END:VEVENT

END:VCALENDAR
