BEGIN:VCALENDAR
VERSION:2.0
PRODID:-//ChamberMaster//Event Calendar 2.0//EN
METHOD:PUBLISH
X-PUBLISHED-TTL:P3D
REFRESH-INTERVAL:P3D
CALSCALE:GREGORIAN
BEGIN:VEVENT
DTSTART:20120614T220000Z
DTEND:20120614T233000Z
X-MICROSOFT-CDO-ALLDAYEVENT:FALSE
SUMMARY:Headache School | The Weather Channel
DESCRIPTION:Headache School\n\nDo you suffer from chronic headaches or migraines? If so\, these monthly sessions are just what the doctor ordered. Led by physicians from the Norton Neuroscience Institute\, each session will include a brief educational discussion\, followed by questions and answers.\n\n\n\nThe Weather Channel\n\nWith summer finally here\, learn how heat can contribute to headaches. This discussion will also address what other environmental factors can trigger a headache.\n\n\n\nThursday\, June 14   6 to 7:30 p.m.\n\n\n\nTo register\, call (502) 629-1234.
X-ALT-DESC;FMTTYPE=text/html:<strong>Headache School</strong><br />\nDo you suffer from chronic headaches or migraines? If so\, these monthly sessions are just what the doctor ordered. Led by physicians from the Norton Neuroscience Institute\, each session will include a brief educational discussion\, followed by questions and answers.<br />\n<br />\n<strong>The Weather Channel</strong><br />\nWith summer finally here\, learn how heat can contribute to headaches. This discussion will also address what other environmental factors can trigger a headache.<br />\n<br />\nThursday\, June 14 &ndash\; 6 to 7:30 p.m.<br />\n<br />\nTo register\, call (502) <strong>629-1234.</strong><br />\n
LOCATION:Marshall Women's Center Norton Suburban Hospital | Plaza III | Classroom IB
UID:e.9037.1040
SEQUENCE:3
DTSTAMP:20260424T151209Z
URL:https://business.stmatthewschamber.com/events/details/headache-school-the-weather-channel-06-14-2012-1040
END:VEVENT

END:VCALENDAR
