BEGIN:VCALENDAR
VERSION:2.0
PRODID:-//ChamberMaster//Event Calendar 2.0//EN
METHOD:PUBLISH
X-PUBLISHED-TTL:P3D
REFRESH-INTERVAL:P3D
CALSCALE:GREGORIAN
BEGIN:VEVENT
DTSTART:20120510T220000Z
DTEND:20120510T233000Z
X-MICROSOFT-CDO-ALLDAYEVENT:FALSE
SUMMARY:Headache School | A Piece of History
DESCRIPTION:Headache School\n\nDo you suffer from chronic headaches or migraines? If so\, these monthly sessions are just what the doctor ordered. Led by physicians from the Norton Neuroscience Institute\, each session will include a brief educational discussion\, followed by questions and answers.\n\n\n\nA Piece of History\n\nIn honor of the presidential primary\, learn what presidents and other historical figures suffered from migraine headaches. Discuss how headaches can affect your productivity and daily life\, and learn tips to help control their impact.\n\n\n\nThursday\, May 10   6 to 7:30 p.m.\n\n\n\nTo register\, call (502) 629-1234.
X-ALT-DESC;FMTTYPE=text/html:<strong>Headache School</strong><br />\nDo you suffer from chronic headaches or migraines? If so\, these monthly sessions are just what the doctor ordered. Led by physicians from the Norton Neuroscience Institute\, each session will include a brief educational discussion\, followed by questions and answers.<br />\n<br />\n<strong>A Piece of History</strong><br />\nIn honor of the presidential primary\, learn what presidents and other historical figures suffered from migraine headaches. Discuss how headaches can affect your productivity and daily life\, and learn tips to help control their impact.<br />\n<br />\nThursday\, May 10 &ndash\; 6 to 7:30 p.m.<br />\n<br />\nTo register\, call (502) <strong>629-1234</strong>.<br />\n
LOCATION:Marshall Women's Health & Education Center Norton Suburban Hospital | Plaza III | Classroom IB
UID:e.9037.1039
SEQUENCE:3
DTSTAMP:20260424T134419Z
URL:https://business.stmatthewschamber.com/events/details/headache-school-a-piece-of-history-05-10-2012-1039
END:VEVENT

END:VCALENDAR
