BEGIN:VCALENDAR
VERSION:2.0
PRODID:-//ChamberMaster//Event Calendar 2.0//EN
METHOD:PUBLISH
X-PUBLISHED-TTL:P3D
REFRESH-INTERVAL:P3D
CALSCALE:GREGORIAN
BEGIN:VEVENT
DTSTART:20131019T143000Z
DTEND:20131019T163000Z
X-MICROSOFT-CDO-ALLDAYEVENT:FALSE
SUMMARY:Halloween Mask Making Workshop
DESCRIPTION:Masks have been a part of many cultures throughout history. Masks made by the sighted usually depend on the visual for their effects\, but textures and shapes can convey emotions as well. Museum staff will guide participants of all ages and abilities as they make a scary or friendly Halloween masks and headdresses using tactile materials. Free to the public but space is limited so registration is required. Call 899-2213 by October 17 to register.
X-ALT-DESC;FMTTYPE=text/html:<div>\n	Masks have been a part of many cultures throughout history. Masks made by the sighted usually depend on the visual for their effects\, but textures and shapes can convey emotions as well. Museum staff will guide participants of all ages and abilities as they make a scary or friendly Halloween masks and headdresses using tactile materials. Free to the public but space is limited so registration is required. Call 899-2213 by October 17 to register.</div>\n<div>\n	&nbsp\;</div>\n
LOCATION:Museum of the American Printing House for the Blind\, 1839 Frankfort Avenue\, Louisville\, 40207
UID:e.9037.1617
SEQUENCE:3
DTSTAMP:20260425T192245Z
URL:https://business.stmatthewschamber.com/events/details/halloween-mask-making-workshop-10-19-2013-1617
END:VEVENT

END:VCALENDAR
