BEGIN:VCALENDAR
VERSION:2.0
PRODID:-//ChamberMaster//Event Calendar 2.0//EN
METHOD:PUBLISH
X-PUBLISHED-TTL:P3D
REFRESH-INTERVAL:P3D
CALSCALE:GREGORIAN
BEGIN:VEVENT
DTSTART:20121027T150000Z
DTEND:20121027T180000Z
X-MICROSOFT-CDO-ALLDAYEVENT:FALSE
SUMMARY:Halloween Festival
DESCRIPTION:This special event in October is a community favorite\, attracting over 2500 children and countless adults   and best of all\, it's FREE\, too! The festival offers music\, games\, and attractions such as hayrides\, petting zoo and trick-or-treating through our "haunted forest." Children and families meander through the park collecting goodies from the businesses which are set up along the way\, awaiting the little "ghosts" & "goblins" with treats and surprises.
X-ALT-DESC;FMTTYPE=text/html:<p>\n	This special event in October is a community favorite\, attracting over 2500 children and countless adults &ndash\; and best of all\, it&rsquo\;s FREE\, too! The festival offers music\, games\, and attractions such as hayrides\, petting zoo and trick-or-treating through our &ldquo\;haunted forest.&rdquo\; Children and families meander through the park collecting goodies from the businesses which are set up along the way\, awaiting the little &ldquo\;ghosts&rdquo\; &amp\; &ldquo\;goblins&rdquo\; with treats and surprises.<span _fck_bookmark="1" style="display: none">&nbsp\;</span></p>\n
LOCATION:
UID:e.9037.101
SEQUENCE:3
DTSTAMP:20260422T060422Z
URL:https://business.stmatthewschamber.com/events/details/halloween-festival-10-27-2012-101
END:VEVENT

END:VCALENDAR
