BEGIN:VCALENDAR
VERSION:2.0
PRODID:-//ChamberMaster//Event Calendar 2.0//EN
METHOD:PUBLISH
X-PUBLISHED-TTL:P3D
REFRESH-INTERVAL:P3D
CALSCALE:GREGORIAN
BEGIN:VEVENT
DTSTART:20130102T230000Z
DTEND:20130103T010000Z
X-MICROSOFT-CDO-ALLDAYEVENT:FALSE
SUMMARY:Grand Opening
DESCRIPTION:News Release                                                                     December 20\, 2012\n\n \n\n \n\nContact:        Maria Bell\n\n                        270-351-2009\n\n                        thegreekchef@gmail.com\n\n \n\n \n\n \n\nChef Maria's Greek Deli: Greek and Mediterranean Cuisine to Go\n\nWill Open in St. Matthews\n\n \n\n \n\n            Chef Maria Bell\, formerly of Greek Paradise Caf  and It's All Greek to Me\, is opening a new specialty deli in St. Matthews. Scheduled to open on January 2 at 102 Fairfax Avenue\, at 6.00 p.m\n\nChef Maria's Greek Deli: Greek and Mediterranean Cuisine to Go will offer a variety of retail products\, as well as catering and wholesale.\n\n            The menu will include soups\, dips\, hummus\, imported olives\, feta cheese\, spinach pie\, cheese pie\, lasagna\, moussaka\, gyros\, baklava\, galaktoboureko\, pita bread \, lemon chicken with potatoes and many more fresh meals.\n\n            "It's going to be a one-stop-shop for fabulous food for busy people on the run who want something different and delicious\," says Bell.\n\n            The new location will also feature cooking classes at 4:00 p.m. every Wednesday. The cost is $10.00 per person.\n\n            Phone: 502-895-7075.\n\n \n\n# # #
X-ALT-DESC;FMTTYPE=text/html:<strong><span style="font-family:arial\,sans-serif\;">News Release&nbsp\;&nbsp\;&nbsp\;&nbsp\;&nbsp\;&nbsp\;&nbsp\;&nbsp\;&nbsp\;&nbsp\;&nbsp\;&nbsp\;&nbsp\;&nbsp\;&nbsp\;&nbsp\;&nbsp\;&nbsp\;&nbsp\;&nbsp\;&nbsp\;&nbsp\;&nbsp\;&nbsp\;&nbsp\;&nbsp\;&nbsp\;&nbsp\;&nbsp\;&nbsp\;&nbsp\;&nbsp\;&nbsp\;&nbsp\;&nbsp\;&nbsp\;&nbsp\;&nbsp\;&nbsp\;&nbsp\;&nbsp\;&nbsp\;&nbsp\;&nbsp\;&nbsp\;&nbsp\;&nbsp\;&nbsp\;&nbsp\;&nbsp\;&nbsp\;&nbsp\;&nbsp\;&nbsp\;&nbsp\;&nbsp\;&nbsp\;&nbsp\;&nbsp\;&nbsp\;&nbsp\;&nbsp\;&nbsp\;&nbsp\;&nbsp\;&nbsp\;&nbsp\;&nbsp\; December 20\, 2012</span></strong><br />\n&nbsp\;<br />\n&nbsp\;<br />\n<strong><span style="font-family:arial\,sans-serif\;">Contact: &nbsp\;&nbsp\;&nbsp\;&nbsp\;&nbsp\;&nbsp\; Maria Bell</span></strong><br />\n<strong><span style="font-family:arial\,sans-serif\;">&nbsp\;&nbsp\;&nbsp\;&nbsp\;&nbsp\;&nbsp\;&nbsp\;&nbsp\;&nbsp\;&nbsp\;&nbsp\;&nbsp\;&nbsp\;&nbsp\;&nbsp\;&nbsp\;&nbsp\;&nbsp\;&nbsp\;&nbsp\;&nbsp\;&nbsp\;&nbsp\; 270-351-2009</span></strong><br />\n&nbsp\;&nbsp\;&nbsp\;&nbsp\;&nbsp\;&nbsp\;&nbsp\;&nbsp\;&nbsp\;&nbsp\;&nbsp\;&nbsp\;&nbsp\;&nbsp\;&nbsp\;&nbsp\;&nbsp\;&nbsp\;&nbsp\;&nbsp\;&nbsp\;&nbsp\;&nbsp\; <a href="mailto:thegreekchef@gmail.com"><strong><span style="font-family:arial\,sans-serif\;">thegreekchef@gmail.com</span></strong></a><br />\n&nbsp\;<br />\n&nbsp\;<br />\n&nbsp\;<br />\n<strong><span style="font-family:arial\,sans-serif\;">Chef Maria&rsquo\;s Greek Deli: Greek and Mediterranean Cuisine to Go</span></strong><br />\n<strong><span style="font-family:arial\,sans-serif\;">Will Open in St. Matthews</span></strong><br />\n&nbsp\;<br />\n&nbsp\;<br />\n<span style="font-family:arial\,sans-serif\;">&nbsp\;&nbsp\;&nbsp\;&nbsp\;&nbsp\;&nbsp\;&nbsp\;&nbsp\;&nbsp\;&nbsp\;&nbsp\; Chef Maria Bell\, formerly of Greek Paradise Caf&eacute\; and It&rsquo\;s All Greek to Me\, is opening a new specialty deli in St. Matthews. Scheduled to open on January 2 at 102 Fairfax Avenue\, at 6.00 p.m<br />\nChef Maria&rsquo\;s Greek Deli: Greek and Mediterranean Cuisine to Go will offer a variety of retail products\, as well as catering and wholesale.</span><br />\n<span style="font-family:arial\,sans-serif\;">&nbsp\;&nbsp\;&nbsp\;&nbsp\;&nbsp\;&nbsp\;&nbsp\;&nbsp\;&nbsp\;&nbsp\;&nbsp\; The menu will include soups\, dips\, hummus\, imported olives\, feta cheese\, spinach pie\, cheese pie\, lasagna\, moussaka\, gyros\, baklava\, galaktoboureko\, pita bread \, lemon chicken with potatoes and many more fresh meals.</span><br />\n<span style="font-family:arial\,sans-serif\;">&nbsp\;&nbsp\;&nbsp\;&nbsp\;&nbsp\;&nbsp\;&nbsp\;&nbsp\;&nbsp\;&nbsp\;&nbsp\; &ldquo\;It&rsquo\;s going to be a one-stop-shop for fabulous food for busy people on the run who want something different and delicious\,&rdquo\; says Bell.</span><br />\n<span style="font-family:arial\,sans-serif\;">&nbsp\;&nbsp\;&nbsp\;&nbsp\;&nbsp\;&nbsp\;&nbsp\;&nbsp\;&nbsp\;&nbsp\;&nbsp\; The new location will also feature cooking classes at 4:00 p.m. every Wednesday. The cost is $10.00 per person.</span><br />\n<span style="font-family:arial\,sans-serif\;">&nbsp\;&nbsp\;&nbsp\;&nbsp\;&nbsp\;&nbsp\;&nbsp\;&nbsp\;&nbsp\;&nbsp\;&nbsp\; Phone: 502-895-7075.</span><br />\n&nbsp\;<br />\n<span style="font-family:arial\,sans-serif\;"># # #</span><br />\n&nbsp\;
LOCATION:102 Fairfax Ave Louisville\, KY 40207
UID:e.9037.1409
SEQUENCE:3
DTSTAMP:20260425T155105Z
URL:https://business.stmatthewschamber.com/events/details/grand-opening-01-02-2013-1409
END:VEVENT

END:VCALENDAR
