BEGIN:VCALENDAR
VERSION:2.0
PRODID:-//ChamberMaster//Event Calendar 2.0//EN
METHOD:PUBLISH
X-PUBLISHED-TTL:P3D
REFRESH-INTERVAL:P3D
CALSCALE:GREGORIAN
BEGIN:VEVENT
DTSTART;VALUE=DATE:20140315
DTEND;VALUE=DATE:20140527
TRANSP:TRANSPARENT
X-MICROSOFT-CDO-ALLDAYEVENT:TRUE
SUMMARY:Give Peace a Chance (Exhibit)
DESCRIPTION:John Lennon and Yoko Ono used a "Bed-In" as a way to put themselves and their message of peace in the spotlight between May 26 and June 2\, 1969\, demonstrating vulnerability and openness along with unrelenting support of their personal beliefs. Through stories and photographs\, many never widely-seen before\, Give Peace a Chance offers visitors the opportunity to sit on the edge of the "Bed-In" which took place in Suite 1742 at the Queen Elizabeth Hotel in Montreal. Give Peace a Chance will be on display during "Abbey Road on the River\," the world's largest Beatles-inspired music festival\, which runs from May 22 - 26 in downtown Louisville.
X-ALT-DESC;FMTTYPE=text/html:John Lennon and Yoko Ono used a &quot\;Bed-In&quot\; as a way to put themselves and their message of peace in the spotlight between May 26 and June 2\, 1969\, demonstrating vulnerability and openness along with unrelenting support of their personal beliefs. Through stories and photographs\, many never widely-seen before\, Give Peace a Chance offers visitors the opportunity to sit on the edge of the &quot\;Bed-In&quot\; which took place in Suite 1742 at the Queen Elizabeth Hotel in Montreal. Give Peace a Chance will be on display during &quot\;Abbey Road on the River\,&quot\; the world&#39\;s largest Beatles-inspired music festival\, which runs from May 22 - 26 in downtown Louisville.
LOCATION:Muhammad Ali Center 144 N. Sixth St Louisville\, KY 40202
UID:e.9037.1702
SEQUENCE:3
DTSTAMP:20260426T010842Z
URL:https://business.stmatthewschamber.com/events/details/give-peace-a-chance-exhibit-03-15-2014-1702
END:VEVENT

END:VCALENDAR
