BEGIN:VCALENDAR
VERSION:2.0
PRODID:-//ChamberMaster//Event Calendar 2.0//EN
METHOD:PUBLISH
X-PUBLISHED-TTL:P3D
REFRESH-INTERVAL:P3D
CALSCALE:GREGORIAN
BEGIN:VEVENT
DTSTART:20130513T220000Z
DTEND:20130513T233000Z
X-MICROSOFT-CDO-ALLDAYEVENT:FALSE
SUMMARY:Girl Talk
DESCRIPTION:Don't miss this special evening designed especially for teenagers and their moms. A panel of medical experts will shed light on the physical and emotional changes teenage girls experience and discuss self-esteem\, bullying\, saying no\, nutrition\, exercise\, body image\, health concerns and generational communication. Help empower your daughter and yourself  for the challenges of growing up.
X-ALT-DESC;FMTTYPE=text/html:Don&#39\;t miss this special evening designed especially for teenagers and their moms. A panel of medical experts will shed light on the physical and emotional changes teenage girls experience and discuss self-esteem\, bullying\, saying no\, nutrition\, exercise\, body image\, health concerns and generational communication. Help empower your daughter and yourself&nbsp\; for the challenges of growing up.
LOCATION:Marshall Women's Healthy & Education Center Norton Medical Plaza III - Suburban Suite 108\, Room 1B 4121 Dutchmans Lane\, Louisville KY
UID:e.9037.1429
SEQUENCE:3
DTSTAMP:20260425T132838Z
URL:https://business.stmatthewschamber.com/events/details/girl-talk-05-13-2013-1429
END:VEVENT

END:VCALENDAR
