BEGIN:VCALENDAR
VERSION:2.0
PRODID:-//ChamberMaster//Event Calendar 2.0//EN
METHOD:PUBLISH
X-PUBLISHED-TTL:P3D
REFRESH-INTERVAL:P3D
CALSCALE:GREGORIAN
BEGIN:VEVENT
DTSTART:20130522T123000Z
DTEND:20130522T160000Z
X-MICROSOFT-CDO-ALLDAYEVENT:FALSE
SUMMARY:Free Small Business Marketing Strategy Workshop
DESCRIPTION:Strategexe Consultation Group will be hosting a workshop where  Adam Robinson\, MBA and the Strategexe team will lead you through a series of targeted questions and focused planning sessions that help your business develop the following for the upcoming 3rd quarter:\n\n\n	\n		SWOT Analysis\n	\n		Product and Service Assessment\n	\n		Target Market Analysis\n	\n		Identify Marketing Channels\n	\n		Marketing Goals\n	\n		Sales Goals\n	\n		Implementing Your Plan\n\n\n\nA light continental breakfast will be served from Starbucks.
X-ALT-DESC;FMTTYPE=text/html:Strategexe Consultation Group will be hosting a workshop where&nbsp\; Adam Robinson\, MBA and the Strategexe team will lead you through a series of targeted questions and focused planning sessions that help your business develop the following for the upcoming 3rd quarter:<br />\n<ul>\n	<li>\n		SWOT Analysis</li>\n	<li>\n		Product and Service Assessment</li>\n	<li>\n		Target Market Analysis</li>\n	<li>\n		Identify Marketing Channels</li>\n	<li>\n		Marketing Goals</li>\n	<li>\n		Sales Goals</li>\n	<li>\n		Implementing Your Plan</li>\n</ul>\n<br />\nA light continental breakfast will be served from Starbucks.
LOCATION:Republic Bank\, 9600 Brownsboro Road (near The Summit)
UID:e.9037.1572
SEQUENCE:3
DTSTAMP:20260425T133658Z
URL:https://business.stmatthewschamber.com/events/details/free-small-business-marketing-strategy-workshop-05-22-2013-1572
END:VEVENT

END:VCALENDAR
