BEGIN:VCALENDAR
VERSION:2.0
PRODID:-//ChamberMaster//Event Calendar 2.0//EN
METHOD:PUBLISH
X-PUBLISHED-TTL:P3D
REFRESH-INTERVAL:P3D
CALSCALE:GREGORIAN
BEGIN:VEVENT
DTSTART:20120327T220000Z
DTEND:20120328T000000Z
X-MICROSOFT-CDO-ALLDAYEVENT:FALSE
SUMMARY:Free Sinusitis Seminar at Baptist Hospital East
DESCRIPTION:To find out if you suffer from sinusitis\, attend a free\, informational seminar led by ear\, nose\, and throat specialist Keith Forwith\, MD\, at 6 p.m. Tuesday\, March 27 at Baptist Hospital East's second-floor Education Center (Classroom 2G)\, 4000 Kresge Way. Refreshments will be served. Space is limited. For more information or to reserve your spot\, call (502) 893-0759 ext. 1177.
X-ALT-DESC;FMTTYPE=text/html:To find out if you suffer from sinusitis\, attend a free\, informational seminar led by ear\, nose\, and throat specialist Keith Forwith\, MD\, at 6 p.m. Tuesday\, March 27 at Baptist Hospital East&rsquo\;s second-floor Education Center (Classroom 2G)\, 4000 Kresge Way. Refreshments will be served. Space is limited. For more information or to reserve your spot\, call (502) 893-0759 ext. 1177. 
LOCATION:Baptist Hospital East?s second-floor Education Center (Classroom 2G)\, 4000 Kresge Way.
UID:e.9037.1010
SEQUENCE:3
DTSTAMP:20260424T163838Z
URL:https://business.stmatthewschamber.com/events/details/free-sinusitis-seminar-at-baptist-hospital-east-03-27-2012-1010
END:VEVENT

END:VCALENDAR
