BEGIN:VCALENDAR
VERSION:2.0
PRODID:-//ChamberMaster//Event Calendar 2.0//EN
METHOD:PUBLISH
X-PUBLISHED-TTL:P3D
REFRESH-INTERVAL:P3D
CALSCALE:GREGORIAN
BEGIN:VEVENT
DTSTART:20120329T230000Z
DTEND:20120330T010000Z
X-MICROSOFT-CDO-ALLDAYEVENT:FALSE
SUMMARY:Free Sinusitis Seminar at Baptist East/Milestone Wellness Center
DESCRIPTION:To find out if you suffer from sinusitis\, attend a free\, informational seminar led by ear\, nose\, and throat specialist Andrew Gould\, MD\, at 7 p.m. Thursday\, March 29 at the Baptist East/Milestone Wellness Center\, 750 Cypress Station Drive. Refreshments will be served. Space is limited. For more information or to reserve your spot\, call (502) 893-0759 ext. 1177.
X-ALT-DESC;FMTTYPE=text/html:To find out if you suffer from sinusitis\, attend a free\, informational seminar led by ear\, nose\, and throat specialist Andrew Gould\, MD\, at 7 p.m. Thursday\, March 29 at the Baptist East/Milestone Wellness Center\, 750 Cypress Station Drive. Refreshments will be served. Space is limited. For more information or to reserve your spot\, call (502) 893-0759 ext. 1177. 
LOCATION:Baptist East/Milestone Wellness Center\, 750 Cypress Station Drive
UID:e.9037.1011
SEQUENCE:3
DTSTAMP:20260424T163814Z
URL:https://business.stmatthewschamber.com/events/details/free-sinusitis-seminar-at-baptist-east-milestone-wellness-center-03-29-2012-1011
END:VEVENT

END:VCALENDAR
