BEGIN:VCALENDAR
VERSION:2.0
PRODID:-//ChamberMaster//Event Calendar 2.0//EN
METHOD:PUBLISH
X-PUBLISHED-TTL:P3D
REFRESH-INTERVAL:P3D
CALSCALE:GREGORIAN
BEGIN:VEVENT
DTSTART:20120419T200000Z
DTEND:20120419T230000Z
X-MICROSOFT-CDO-ALLDAYEVENT:FALSE
SUMMARY:Free Heartsaver AED Course at Baptist Hospital East
DESCRIPTION:A free Heartsaver AED course will teach the basic techniques of adult CPR and how to use an automated external defibrillator (AED) from 4-7 p.m. Thursday\, April 19 at the Baptist Hospital East Rehabilitation unit\, fourth floor of the 4002 Building.\n\nInstructors are Julie Naville\, Occupational Therapy director\, and Tina Volz\, physical therapist. Both are on the medical staff at Baptist Hospital East.\n\nThe course will teach lay rescuers when to phone 911\, how to give CPR\, how to use an AED\, and how to provide relief from choking.\n\nParticipants will be tested on a mannequin. Those who are successful will be certified to perform CPR and use an AED on adult victims. Certification\, through the American Heart Association\, is good for two years.\n\nClass size is limited to 10 participants. For more information\, or to register\, call the Baptist East Information Center at (502) 897-8131\, or e-mail BHEInfoCenter@bhsi.com.
X-ALT-DESC;FMTTYPE=text/html:A free Heartsaver AED course will teach the basic techniques of adult CPR and how to use an automated external defibrillator (AED) from 4-7 p.m. Thursday\, April 19 at the Baptist Hospital East Rehabilitation unit\, fourth floor of the 4002 Building.<br />\nInstructors are Julie Naville\, Occupational Therapy director\, and Tina Volz\, physical therapist. Both are on the medical staff at Baptist Hospital East.<br />\nThe course will teach lay rescuers when to phone 911\, how to give CPR\, how to use an AED\, and how to provide relief from choking.<br />\nParticipants will be tested on a mannequin. Those who are successful will be certified to perform CPR and use an AED on adult victims. Certification\, through the American Heart Association\, is good for two years.<br />\nClass size is limited to 10 participants. For more information\, or to register\, call the Baptist East Information Center at (502) 897-8131\, or e-mail BHEInfoCenter@bhsi.com.<br />\n
LOCATION:Baptist Hospital East Rehabilitation unit\, fourth floor of the 4002 Building.
UID:e.9037.1022
SEQUENCE:3
DTSTAMP:20260424T153001Z
URL:https://business.stmatthewschamber.com/events/details/free-heartsaver-aed-course-at-baptist-hospital-east-04-19-2012-1022
END:VEVENT

END:VCALENDAR
