BEGIN:VCALENDAR
VERSION:2.0
PRODID:-//ChamberMaster//Event Calendar 2.0//EN
METHOD:PUBLISH
X-PUBLISHED-TTL:P3D
REFRESH-INTERVAL:P3D
CALSCALE:GREGORIAN
BEGIN:VEVENT
DTSTART:20130129T150000Z
DTEND:20130129T210000Z
X-MICROSOFT-CDO-ALLDAYEVENT:FALSE
SUMMARY:Free Coat Exchange
DESCRIPTION:The concept is simple:  some people have a coat they don't need\, and some people need a coat they don't have.  On Black Friday\, the day after Thanksgiving\, we bring the two together to make a difference in many lives.
X-ALT-DESC;FMTTYPE=text/html:The concept is simple:&nbsp\; some people have a coat they don&#39\;t need\, and some people need a coat they don&#39\;t have.&nbsp\; On Black Friday\, the day after Thanksgiving\, we bring the two together to make a difference in many lives.
LOCATION:
UID:e.9037.1411
SEQUENCE:3
DTSTAMP:20260425T155106Z
URL:https://business.stmatthewschamber.com/events/details/free-coat-exchange-01-29-2013-1411
END:VEVENT

END:VCALENDAR
